Workbook
Name god: [1]Справочники!$F$7
Name kv: [1]Справочники!$G$7
Name kvartal: [1]TEHSHEET!$E$2:$E$5
Name Sheet2?prefix?: "H"
Name sp_org: [1]TEHSHEET!$G$2:$G$5
Name БазаСвод: #REF!
Name БазаСвод: #REF!
Name БазовыйПериод: [1]Заголовок2!$B$15
Name г: #REF!
Name г: #REF!
Name Тек_день: #REF!
Name Тек_день: #REF!
Name Тек_день2: #REF!
Name Тек_день2: #REF!

Sheet Ф-9а-2 Приморский край, ЕАО
I2: Форма № 9а-2
A3: Информация о тарифах, предельных уровнях тарифов (тарифных планов) на предоставление внутризонового телефонного соединения абоненту (пользователю) сети фиксированной телефонной связи для передачи голосовой информации, факсимильных сообщений и данных, предоставляемого МРФ "Дальний Восток" ПАО "Ростелеком" на территории Еврейской автономной области и Приморского края
B4: Виды услуг | C4: Для абонентов - юридических лиц и граждан, использующих услуги телефонной связи для нужд иных, чем личные, семейные, домашние и другие, не связанные с осуществлением предпринимательской деятельности | G4: Для абонентов - граждан, использующих услуги телефонной связи для личных, семейных, домашних нужд и других, не связанных с осуществлением предпринимательской деятельности
C5: предельные максимальные уровни тарифов и тарифных планов: утвержденные ФАС России, в том числе, в соответствии с коэффициентами, за минуту соединения с 14.04.2021 г № 346/21., руб. | E5: Тарифы, установленные субъектом естественных монополий, за минуту соединения с 01.06.2021 г., руб. | G5: предельные максимальные уровни тарифов и тарифных планов: утвержденные ФАС России, в том числе, в соответствии с коэффициентами, за минуту соединения с 14.04.2021 г. № 346/21, руб. | I5: Тарифы, установленные субъектом естественных монополий, за минуту соединения с 01.06.2021 г., руб.
C6: северные районы | D6: остальные районы | E6: северные районы | F6: остальные районы | G6: северные районы | H6: остальные районы | I6: северные районы | J6: остальные районы
C7: без НДС | G7: с НДС
A8: 1 | B8: 2 | C8: 3 | D8: 4 | E8: 5 | F8: 6 | G8: 7 | H8: 8 | I8: 9 | J8: 10
A9: 1. | B9: Предоставление внутризонового телефонного соединения абоненту (пользователю) сети фиксированной телефонной связи для передачи голосовой информации, факсимильных сообщений и данных:
A10: 1.1. | B10: Автоматическим способом:
A11: 1.1.1. | B11: Между пользовательским (оконечным) оборудованием, подключенным к сети местной телефонной связи и размещенным в пределах территории одного и того же субъекта Российской Федерации | C11: * | D11: * | E11: * | F11: Период 1: с 8.00 до 24.00 | G11: * | H11: * | I11: * | J11: Период 1: с 8.00 до 24.00
B12: по тарифным зонам на расстоянии:
B13: до 100 км | C13: * | D13: 2.73 | E13: * | F13: =D13 -> 2.73 | G13: * | H13: 2.73 | I13: * | J13: 2.73
B14: от 101 до 600 км | C14: * | D14: 4.68 | E14: * | F14: =D14 -> 4.68 | G14: * | H14: 4.68 | I14: * | J14: 4.68
B15: по тарифным зонам на расстоянии: | C15: * | D15: * | E15: * | F15: Период 2: с 00.00 до 08.00 | G15: * | I15: * | J15: Период 2: с 00.00 до 08.00
B16: до 100 км | C16: * | D16: 2.73 | E16: * | F16: 2.73 | G16: * | H16: 2.73 | I16: * | J16: 2.73
B17: от 101 до 600 км | C17: * | D17: 4.68 | E17: * | F17: 4.68 | G17: * | H17: 4.68 | I17: * | J17: 4.68
A18: 1.1.2. | B18: Между пользовательским (оконечным) оборудованием, подключенным к сети местной телефонной связи, и пользовательским (оконечным) оборудованием, подключенным к сети подвижной радиотелефонной связи:
B19: при наличии присоединения сети подвижной радиотелефонной связи к сети фиксированной зоновой телефонной связи в пределах территории того муниципального образования, города федерального значения, в котором установлено пользовательское (оконечное) оборудование вызывающего абонента, когда соответствующему абоненту сети подвижной радиотелефонной связи выделен абонентский номер, входящий в ресурс географически не определяемой зоны нумерации, закрепленный за тем же субъектом Российской Федерации | C19: * | D19: 1.58 | E19: * | F19: =D19 -> 1.58 | G19: * | H19: 1.58 | I19: * | J19: 1.58
B20: при наличии присоединения сети подвижной радиотелефонной связи к сети фиксированной зоновой телефонной связи за пределами территории того муниципального образования, города федерального значения, в котором установлено пользовательское (оконечное) оборудование вызывающего абонента, когда соответствующему абоненту сети подвижной радиотелефонной связи выделен абонентский номер, входящий в ресурс географически не определяемой зоны нумерации, закрепленный за тем же субъектом Российской Федерации
B21: по тарифным зонам на расстоянии:
B22: до 100 км | C22: * | D22: 2.73 | E22: * | F22: =D22 -> 2.73 | G22: * | H22: 2.73 | I22: * | J22: 2.73
B23: от 101 до 600 км | C23: * | D23: 4.68 | E23: * | F23: =D23 -> 4.68 | G23: * | H23: 4.68 | I23: * | J23: 4.68
B24: от 601 до 1200 км | C24: * | D24: * | E24: * | F24: * | G24: * | H24: * | I24: * | J24: *
B25: от 1200 км до 3000 км | C25: * | D25: * | E25: * | F25: * | G25: * | H25: * | I25: * | J25: *
A26: 1.2. | B26: С помощью телефониста:
A27: 1.2.1. | B27: Оплачивается с повышающим коэффициентом __2_ к тарифам, указанным в статье 1.1, действующим на момент предоставления услуги (кроме абонентов, не имеющих технической возможности осуществлять соединение между собой автоматическим способом)
A28: 1.2.2. | B28: Оплачивается по тарифам, указанным в статье 1.1, действующим на момент предоставления услуги для абонентов, не имеющих технической возможности осуществлять соединение между собой автоматическим способом
A29: 1.2.3. | B29: Оплачивается по срочному заказу с применением повышающего коэффициента _2__ к тарифам, действующим на момент предоставления услуги (ст. 1.2.1, ст. 1.2.2)
A30: 2. | B30: Дополнительные тарифные планы на предоставление внутризонового телефонного соединения абоненту (пользователю) сети фиксированной телефонной связи для передачи голосовой информации, факсимильных сообщений и данных:
A31: 3. | B31: Дополнительные тарифные планы на предоставление местного и внутризонового телефонных соединений абоненту (пользователю) сети фиксированной телефонной связи для передачи голосовой информации, факсимильных сообщений и данных:
B32: см. Приложение 1 к форме
A33: 4. | B33: Дополнительные тарифные планы на услуги местной и внутризоновой телефонной связи (предоставление абоненту в постоянное пользование абонентской линии независимо от ее типа, местного и внутризонового телефонного соединения для передачи голосовой информации, факсимильных сообщений и данных):
A34: Примечание:
A35: 1. В графах 5, 6 субъект естественных монополий указывает тарифы отдельно для организаций финансируемых и не финансируемых из соответствующих бюджетов, в случае их различия.
A36: 2. В графах 5, 9 субъект естественных монополий указывает тарифы отдельно по территориям районов Крайнего Севера и приравненных к районам Крайнего Севера, в случае их различия.
A37: 3. В пункте 1.2.1. субъект естественных монополий указывает величину повышающего коэффициента при предоставлении внутризонового телефонного соединения, оказываемого с помощью телефониста абонентам, имеющим техническую возможность осуществлять соединения между собой автоматическим способом.
A38: 4. В пункте 1.2.3. субъект естественных монополий указывает величину повышающего коэффициента при предоставлении внутризонового телефонного соединения, оказываемого с помощью телефониста по срочному заказу.
A39: 5. В случае дифференцирования тарифов на предоставление внутризонового телефонного соединения по часам суток, дням недели, объему оказанных услуг связи, способом обслуживания и по иным основаниям субъект естественных монополий указывает тарифы для вышеперечисленных случаев.
A40: 6. При наличии дополнительных тарифных планов на предоставление внутризонового телефонного соединения в зависимости от набора услуг субъект естественных монополий в пунктах 2, 3, 4 и др. указывает сведения отдельно по каждому тарифному плану.

Sheet Ф-9а-2 Амурской обл
I2: Форма № 9а-2
A3: Информация о тарифах, предельных уровнях тарифов (тарифных планов) на предоставление внутризонового телефонного соединения абоненту (пользователю) сети фиксированной телефонной связи для передачи голосовой информации, факсимильных сообщений и данных, предоставляемого МРФ "Дальний Восток" ПАО "Ростелеком" на территории Амурской области
B4: Виды услуг | C4: Для абонентов - юридических лиц и граждан, использующих услуги телефонной связи для нужд иных, чем личные, семейные, домашние и другие, не связанные с осуществлением предпринимательской деятельности | G4: Для абонентов - граждан, использующих услуги телефонной связи для личных, семейных, домашних нужд и других, не связанных с осуществлением предпринимательской деятельности
C5: ='Ф-9а-2 Приморский край, ЕАО'!C5:D5 -> предельные максимальные уровни тарифов и тарифных планов: утвержденные ФАС России, в том числе, в соответствии с коэффициентами, за минуту соединения с 14.04.2021 г № 346/21., руб. | E5: ='Ф-9а-2 Приморский край, ЕАО'!E5:F5 -> Тарифы, установленные субъектом естественных монополий, за минуту соединения с 01.06.2021 г., руб. | G5: ='Ф-9а-2 Приморский край, ЕАО'!G5:H5 -> предельные максимальные уровни тарифов и тарифных планов: утвержденные ФАС России, в том числе, в соответствии с коэффициентами, за минуту соединения с 14.04.2021 г. № 346/21, руб. | I5: ='Ф-9а-2 Приморский край, ЕАО'!I5:J5 -> Тарифы, установленные субъектом естественных монополий, за минуту соединения с 01.06.2021 г., руб.
C6: северные районы | D6: остальные районы | E6: северные районы | F6: остальные районы | G6: северные районы | H6: остальные районы | I6: северные районы | J6: остальные районы
C7: без НДС | G7: с НДС
A8: 1 | B8: 2 | C8: 3 | D8: 4 | E8: 5 | F8: 6 | G8: 7 | H8: 8 | I8: 9 | J8: 10
A9: 1. | B9: Предоставление внутризонового телефонного соединения абоненту (пользователю) сети фиксированной телефонной связи для передачи голосовой информации, факсимильных сообщений и данных:
A10: 1.1. | B10: Автоматическим способом:
A11: 1.1.1. | B11: Между пользовательским (оконечным) оборудованием, подключенным к сети местной телефонной связи и размещенным в пределах территории одного и того же субъекта Российской Федерации
B12: по тарифным зонам на расстоянии: | E12: Период 1: с 8.00 до 24.00 | I12: Период 1: с 8.00 до 24.00
B13: до 100 км | C13: * | D13: * | E13: 3.58 | F13: 3.05 | G13: * | H13: * | I13: 3.05 | J13: 3.05
B14: от 101 до 600 км | C14: * | D14: * | E14: 5.87 | F14: 5.23 | G14: * | H14: * | I14: 5.23 | J14: 5.23
B15: от 601 до 1200 км | C15: * | D15: * | E15: 7.04 | F15: 7.04 | G15: * | H15: * | I15: 7.04 | J15: 7.04
B16: от 1200 км до 3000 км | C16: * | D16: * | E16: * | F16: * | G16: * | H16: * | I16: * | J16: *
B17: по тарифным зонам на расстоянии: | E17: Период 2: с 00.00 до 08.00 | I17: Период 2: с 00.00 до 08.00
B18: до 100 км | C18: * | D18: * | E18: 3.42 | F18: 2.94 | G18: * | H18: * | I18: 2.94 | J18: 2.94
B19: от 101 до 600 км | C19: * | D19: * | E19: 5.6 | F19: 5.02 | G19: * | H19: * | I19: 5.02 | J19: 5.02
B20: от 601 до 1200 км | C20: * | D20: * | E20: 6.72 | F20: 6.72 | G20: * | H20: * | I20: 6.72 | J20: 6.72
B21: от 1200 км до 3000 км | C21: * | D21: * | E21: * | F21: * | G21: * | H21: * | I21: * | J21: *
A22: 1.1.2. | B22: Между пользовательским (оконечным) оборудованием, подключенным к сети местной телефонной связи, и пользовательским (оконечным) оборудованием, подключенным к сети подвижной радиотелефонной связи:
B23: при наличии присоединения сети подвижной радиотелефонной связи к сети фиксированной зоновой телефонной связи в пределах территории того муниципального образования, города федерального значения, в котором установлено пользовательское (оконечное) оборудование вызывающего абонента, когда соответствующему абоненту сети подвижной радиотелефонной связи выделен абонентский номер, входящий в ресурс географически не определяемой зоны нумерации, закрепленный за тем же субъектом Российской Федерации | C23: * | D23: * | E23: 2 | F23: 1.76 | G23: * | H23: * | I23: 1.76 | J23: 1.76
B24: при наличии присоединения сети подвижной радиотелефонной связи к сети фиксированной зоновой телефонной связи за пределами территории того муниципального образования, города федерального значения, в котором установлено пользовательское (оконечное) оборудование вызывающего абонента, когда соответствующему абоненту сети подвижной радиотелефонной связи выделен абонентский номер, входящий в ресурс географически не определяемой зоны нумерации, закрепленный за тем же субъектом Российской Федерации
B25: по тарифным зонам на расстоянии:
B26: до 100 км | C26: * | D26: * | E26: 3.58 | F26: 3.05 | G26: * | H26: * | I26: 4.07 | J26: 4.07
B27: от 101 до 600 км | C27: * | D27: * | E27: 5.87 | F27: 5.23 | G27: * | H27: * | I27: 5.23 | J27: 5.23
B28: от 601 до 1200 км | C28: * | D28: * | E28: 7.04 | F28: 7.04 | G28: * | H28: * | I28: 7.04 | J28: 7.04
B29: от 1200 км до 3000 км | C29: * | D29: * | E29: * | F29: * | G29: * | H29: * | I29: * | J29: *
A30: 1.2. | B30: С помощью телефониста:
A31: 1.2.1. | B31: Оплачивается с повышающим коэффициентом __2_ к тарифам, указанным в статье 1.1, действующим на момент предоставления услуги (кроме абонентов, не имеющих технической возможности осуществлять соединение между собой автоматическим способом)
A32: 1.2.2. | B32: Оплачивается по тарифам, указанным в статье 1.1, действующим на момент предоставления услуги для абонентов, не имеющих технической возможности осуществлять соединение между собой автоматическим способом
A33: 1.2.3. | B33: Оплачивается по срочному заказу с применением повышающего коэффициента _2__ к тарифам, действующим на момент предоставления услуги (ст. 1.2.1, ст. 1.2.2)
A34: 2. | B34: Дополнительные тарифные планы на предоставление внутризонового телефонного соединения абоненту (пользователю) сети фиксированной телефонной связи для передачи голосовой информации, факсимильных сообщений и данных:
A35: 3. | B35: Дополнительные тарифные планы на предоставление местного и внутризонового телефонных соединений абоненту (пользователю) сети фиксированной телефонной связи для передачи голосовой информации, факсимильных сообщений и данных:
B36: см. Приложение 1 к форме
A37: 4. | B37: Дополнительные тарифные планы на услуги местной и внутризоновой телефонной связи (предоставление абоненту в постоянное пользование абонентской линии независимо от ее типа, местного и внутризонового телефонного соединения для передачи голосовой информации, факсимильных сообщений и данных):
A38: Примечание:
A39: 1. В графах 5, 6 субъект естественных монополий указывает тарифы отдельно для организаций финансируемых и не финансируемых из соответствующих бюджетов, в случае их различия.
A40: 2. В графах 5, 9 субъект естественных монополий указывает тарифы отдельно по территориям районов Крайнего Севера и приравненных к районам Крайнего Севера, в случае их различия.
A41: 3. В пункте 1.2.1. субъект естественных монополий указывает величину повышающего коэффициента при предоставлении внутризонового телефонного соединения, оказываемого с помощью телефониста абонентам, имеющим техническую возможность осуществлять соединения между собой автоматическим способом.
...

Sheet ф-9а-2 Хабар. край
I2: Форма № 9а-2
A3: Информация о тарифах, предельных уровнях тарифов (тарифных планов) на предоставление внутризонового телефонного соединения абоненту (пользователю) сети фиксированной телефонной связи для передачи голосовой информации, факсимильных сообщений и данных, предоставляемого МРФ "Дальний Восток" ПАО "Ростелеком" на территории Хабаровского края
B4: Виды услуг | C4: Для абонентов - юридических лиц и граждан, использующих услуги телефонной связи для нужд иных, чем личные, семейные, домашние и другие, не связанные с осуществлением предпринимательской деятельности | G4: Для абонентов - граждан, использующих услуги телефонной связи для личных, семейных, домашних нужд и других, не связанных с осуществлением предпринимательской деятельности
C5: ='Ф-9а-2 Приморский край, ЕАО'!C5:D5 -> предельные максимальные уровни тарифов и тарифных планов: утвержденные ФАС России, в том числе, в соответствии с коэффициентами, за минуту соединения с 14.04.2021 г № 346/21., руб. | E5: ='Ф-9а-2 Приморский край, ЕАО'!E5:F5 -> Тарифы, установленные субъектом естественных монополий, за минуту соединения с 01.06.2021 г., руб. | G5: ='Ф-9а-2 Приморский край, ЕАО'!G5:H5 -> предельные максимальные уровни тарифов и тарифных планов: утвержденные ФАС России, в том числе, в соответствии с коэффициентами, за минуту соединения с 14.04.2021 г. № 346/21, руб. | I5: ='Ф-9а-2 Приморский край, ЕАО'!I5:J5 -> Тарифы, установленные субъектом естественных монополий, за минуту соединения с 01.06.2021 г., руб.
C6: северные районы | D6: остальные районы | E6: северные районы | F6: остальные районы | G6: северные районы | H6: остальные районы | I6: северные районы | J6: остальные районы
C7: без НДС | G7: с НДС
A8: 1 | B8: 2 | C8: 3 | D8: 4 | E8: 5 | F8: 6 | G8: 7 | H8: 8 | I8: 9 | J8: 10
A9: 1. | B9: Предоставление внутризонового телефонного соединения абоненту (пользователю) сети фиксированной телефонной связи для передачи голосовой информации, факсимильных сообщений и данных:
A10: 1.1. | B10: Автоматическим способом:
A11: 1.1.1. | B11: Между пользовательским (оконечным) оборудованием, подключенным к сети местной телефонной связи и размещенным в пределах территории одного и того же субъекта Российской Федерации
B12: по тарифным зонам на расстоянии: | E12: Период 1: с 8.00 до 24.00 | I12: Период 1: с 8.00 до 24.00
B13: до 100 км | C13: * | D13: * | E13: 3.58 | F13: 3.05 | G13: * | H13: * | I13: 3.05 | J13: 3.05
B14: от 101 до 600 км | C14: * | D14: * | E14: 5.87 | F14: 5.23 | G14: * | H14: * | I14: 5.23 | J14: 5.23
B15: от 601 до 1200 км | C15: * | D15: * | E15: 7.04 | F15: 7.04 | G15: * | H15: * | I15: 7.04 | J15: 7.04
B16: от 1200 км до 3000 км | C16: * | D16: * | E16: 7.04 | F16: 7.04 | G16: * | H16: * | I16: 7.04 | J16: 7.04
B17: по тарифным зонам на расстоянии: | E17: Период 2: с 00.00 до 08.00 | I17: Период 2: с 00.00 до 08.00
B18: до 100 км | C18: * | D18: * | E18: 3.42 | F18: 2.94 | G18: * | H18: * | I18: 2.94 | J18: 2.94
B19: от 101 до 600 км | C19: * | D19: * | E19: 5.6 | F19: 5.02 | G19: * | H19: * | I19: 5.02 | J19: 5.02
B20: от 601 до 1200 км | C20: * | D20: * | E20: 6.72 | F20: 6.72 | G20: * | H20: * | I20: 6.72 | J20: 6.72
B21: от 1200 км до 3000 км | C21: * | D21: * | E21: 6.72 | F21: 6.72 | G21: * | H21: * | I21: 6.72 | J21: 6.72
A22: 1.1.2. | B22: Между пользовательским (оконечным) оборудованием, подключенным к сети местной телефонной связи, и пользовательским (оконечным) оборудованием, подключенным к сети подвижной радиотелефонной связи:
B23: при наличии присоединения сети подвижной радиотелефонной связи к сети фиксированной зоновой телефонной связи в пределах территории того муниципального образования, города федерального значения, в котором установлено пользовательское (оконечное) оборудование вызывающего абонента, когда соответствующему абоненту сети подвижной радиотелефонной связи выделен абонентский номер, входящий в ресурс географически не определяемой зоны нумерации, закрепленный за тем же субъектом Российской Федерации | C23: * | D23: * | E23: 2.11 | F23: 1.88 | G23: * | H23: * | I23: 1.76 | J23: 1.76
B24: при наличии присоединения сети подвижной радиотелефонной связи к сети фиксированной зоновой телефонной связи за пределами территории того муниципального образования, города федерального значения, в котором установлено пользовательское (оконечное) оборудование вызывающего абонента, когда соответствующему абоненту сети подвижной радиотелефонной связи выделен абонентский номер, входящий в ресурс географически не определяемой зоны нумерации, закрепленный за тем же субъектом Российской Федерации
B25: по тарифным зонам на расстоянии:
B26: до 100 км | C26: * | D26: * | E26: 3.85 | F26: 3.25 | G26: * | H26: * | I26: 4.07 | J26: 4.07
B27: от 101 до 600 км | C27: * | D27: * | E27: 6.24 | F27: 5.55 | G27: * | H27: * | I27: 5.23 | J27: 5.23
B28: от 601 до 1200 км | C28: * | D28: * | E28: 7.47 | F28: 7.47 | G28: * | H28: * | I28: 7.04 | J28: 7.04
B29: от 1200 км до 3000 км | C29: * | D29: * | E29: 7.47 | F29: 7.47 | G29: * | H29: * | I29: 7.04 | J29: 7.04
A30: 1.2. | B30: С помощью телефониста:
A31: 1.2.1. | B31: Оплачивается с повышающим коэффициентом __2_ к тарифам, указанным в статье 1.1, действующим на момент предоставления услуги (кроме абонентов, не имеющих технической возможности осуществлять соединение между собой автоматическим способом)
A32: 1.2.2. | B32: Оплачивается по тарифам, указанным в статье 1.1, действующим на момент предоставления услуги для абонентов, не имеющих технической возможности осуществлять соединение между собой автоматическим способом
A33: 1.2.3. | B33: Оплачивается по срочному заказу с применением повышающего коэффициента _2__ к тарифам, действующим на момент предоставления услуги (ст. 1.2.1, ст. 1.2.2)
A34: 2. | B34: Дополнительные тарифные планы на предоставление внутризонового телефонного соединения абоненту (пользователю) сети фиксированной телефонной связи для передачи голосовой информации, факсимильных сообщений и данных:
A35: 3. | B35: Дополнительные тарифные планы на предоставление местного и внутризонового телефонных соединений абоненту (пользователю) сети фиксированной телефонной связи для передачи голосовой информации, факсимильных сообщений и данных:
B36: см. Приложение 1 к форме
A37: 4. | B37: Дополнительные тарифные планы на услуги местной и внутризоновой телефонной связи (предоставление абоненту в постоянное пользование абонентской линии независимо от ее типа, местного и внутризонового телефонного соединения для передачи голосовой информации, факсимильных сообщений и данных):
A38: Примечание:
A39: 1. В графах 5, 6 субъект естественных монополий указывает тарифы отдельно для организаций финансируемых и не финансируемых из соответствующих бюджетов, в случае их различия.
A40: 2. В графах 5, 9 субъект естественных монополий указывает тарифы отдельно по территориям районов Крайнего Севера и приравненных к районам Крайнего Севера, в случае их различия.
A41: 3. В пункте 1.2.1. субъект естественных монополий указывает величину повышающего коэффициента при предоставлении внутризонового телефонного соединения, оказываемого с помощью телефониста абонентам, имеющим техническую возможность осуществлять соединения между собой автоматическим способом.
...

Sheet Ф-9а-2 Магаданск.обл.
I2: Форма № 9а-2
A3: Информация о тарифах, предельных уровнях тарифов (тарифных планов) на предоставление внутризонового телефонного соединения абоненту (пользователю) сети фиксированной телефонной связи для передачи голосовой информации, факсимильных сообщений и данных, предоставляемого МРФ "Дальний Восток" ПАО "Ростелеком" на территории Магаданской области
A4: =#REF! -> #REF! | B4: Виды услуг | C4: Для абонентов - юридических лиц и граждан, использующих услуги телефонной связи для нужд иных, чем личные, семейные, домашние и другие, не связанные с осуществлением предпринимательской деятельности | G4: Для абонентов - граждан, использующих услуги телефонной связи для личных, семейных, домашних нужд и других, не связанных с осуществлением предпринимательской деятельности
C5: ='Ф-9а-2 Приморский край, ЕАО'!C5:D5 -> предельные максимальные уровни тарифов и тарифных планов: утвержденные ФАС России, в том числе, в соответствии с коэффициентами, за минуту соединения с 14.04.2021 г № 346/21., руб. | E5: ='Ф-9а-2 Приморский край, ЕАО'!E5:F5 -> Тарифы, установленные субъектом естественных монополий, за минуту соединения с 01.06.2021 г., руб. | G5: ='Ф-9а-2 Приморский край, ЕАО'!G5:H5 -> предельные максимальные уровни тарифов и тарифных планов: утвержденные ФАС России, в том числе, в соответствии с коэффициентами, за минуту соединения с 14.04.2021 г. № 346/21, руб. | I5: ='Ф-9а-2 Приморский край, ЕАО'!I5:J5 -> Тарифы, установленные субъектом естественных монополий, за минуту соединения с 01.06.2021 г., руб.
C6: северные районы | D6: остальные районы | E6: северные районы | F6: остальные районы | G6: северные районы | H6: остальные районы | I6: северные районы | J6: остальные районы
C7: без НДС | G7: с НДС
A8: 1 | B8: 2 | C8: 3 | D8: 4 | E8: 5 | F8: 6 | G8: 7 | H8: 8 | I8: 9 | J8: 10
A9: 1. | B9: Предоставление внутризонового телефонного соединения абоненту (пользователю) сети фиксированной телефонной связи для передачи голосовой информации, факсимильных сообщений и данных:
A10: 1.1. | B10: Автоматическим способом:
A11: 1.1.1. | B11: Между пользовательским (оконечным) оборудованием, подключенным к сети местной телефонной связи и размещенным в пределах территории одного и того же субъекта Российской Федерации
B12: по тарифным зонам на расстоянии: | E12: Период 1: с 8.00 до 24.00 | I12: Период 1: с 8.00 до 24.00
B13: до 100 км | C13: 3.21 | D13: * | E13: =C13 -> 3.21 | F13: * | G13: 3.21 | H13: * | I13: 3.21 | J13: *
B14: от 101 до 600 км | C14: 5.26 | D14: * | E14: =C14 -> 5.26 | F14: * | G14: 5.26 | H14: * | I14: 5.26 | J14: *
B15: от 601 до 1200 км | C15: 6.31 | D15: * | E15: 6.31 | F15: * | G15: 6.31 | H15: * | I15: 6.31 | J15: *
B16: по тарифным зонам на расстоянии: | E16: Период 2: с 00.00 до 08.00 | I16: Период 2: с 00.00 до 08.00
B17: до 100 км | C17: 3.21 | D17: * | E17: 3.21 | F17: * | G17: 3.21 | H17: * | I17: 3.21 | J17: *
B18: от 101 до 600 км | C18: 5.26 | D18: * | E18: 5.26 | F18: * | G18: 5.26 | H18: * | I18: 5.26 | J18: *
B19: от 601 до 1200 км | C19: 6.31 | D19: * | E19: 6.31 | F19: * | G19: 6.31 | H19: * | I19: 6.31 | J19: *
A20: 1.1.2. | B20: Между пользовательским (оконечным) оборудованием, подключенным к сети местной телефонной связи, и пользовательским (оконечным) оборудованием, подключенным к сети подвижной радиотелефонной связи:
B21: при наличии присоединения сети подвижной радиотелефонной связи к сети фиксированной зоновой телефонной связи в пределах территории того муниципального образования, города федерального значения, в котором установлено пользовательское (оконечное) оборудование вызывающего абонента, когда соответствующему абоненту сети подвижной радиотелефонной связи выделен абонентский номер, входящий в ресурс географически не определяемой зоны нумерации, закрепленный за тем же субъектом Российской Федерации | C21: 1.79 | D21: * | E21: 1.79 | F21: * | G21: 1.79 | H21: * | I21: =G21 -> 1.79 | J21: *
B22: при наличии присоединения сети подвижной радиотелефонной связи к сети фиксированной зоновой телефонной связи за пределами территории того муниципального образования, города федерального значения, в котором установлено пользовательское (оконечное) оборудование вызывающего абонента, когда соответствующему абоненту сети подвижной радиотелефонной связи выделен абонентский номер, входящий в ресурс географически не определяемой зоны нумерации, закрепленный за тем же субъектом Российской Федерации
B23: по тарифным зонам на расстоянии:
B24: до 100 км | C24: 3.21 | D24: * | E24: =C24 -> 3.21 | F24: * | G24: 3.21 | H24: * | I24: 3.21 | J24: *
B25: от 101 до 600 км | C25: 5.26 | D25: * | E25: =C25 -> 5.26 | F25: * | G25: 5.26 | H25: * | I25: 5.26 | J25: *
B26: от 601 до 1200 км | C26: 6.31 | D26: * | E26: 6.31 | F26: * | G26: 6.31 | H26: * | I26: 6.31 | J26: *
B27: от 1200 км до 3000 км
A28: 1.2. | B28: С помощью телефониста:
A29: 1.2.1. | B29: Оплачивается с повышающим коэффициентом __2_ к тарифам, указанным в статье 1.1, действующим на момент предоставления услуги (кроме абонентов, не имеющих технической возможности осуществлять соединение между собой автоматическим способом)
A30: 1.2.2. | B30: Оплачивается по тарифам, указанным в статье 1.1, действующим на момент предоставления услуги для абонентов, не имеющих технической возможности осуществлять соединение между собой автоматическим способом
A31: 1.2.3. | B31: Оплачивается по срочному заказу с применением повышающего коэффициента _2__ к тарифам, действующим на момент предоставления услуги (ст. 1.2.1, ст. 1.2.2)
A32: 2. | B32: Дополнительные тарифные планы на предоставление внутризонового телефонного соединения абоненту (пользователю) сети фиксированной телефонной связи для передачи голосовой информации, факсимильных сообщений и данных:
A33: 3. | B33: Дополнительные тарифные планы на предоставление местного и внутризонового телефонных соединений абоненту (пользователю) сети фиксированной телефонной связи для передачи голосовой информации, факсимильных сообщений и данных:
B34: см. Приложение 1 к форме
A35: 4. | B35: Дополнительные тарифные планы на услуги местной и внутризоновой телефонной связи (предоставление абоненту в постоянное пользование абонентской линии независимо от ее типа, местного и внутризонового телефонного соединения для передачи голосовой информации, факсимильных сообщений и данных):
A36: Примечание:
A37: 1. В графах 5, 6 субъект естественных монополий указывает тарифы отдельно для организаций финансируемых и не финансируемых из соответствующих бюджетов, в случае их различия.
A38: 2. В графах 5, 9 субъект естественных монополий указывает тарифы отдельно по территориям районов Крайнего Севера и приравненных к районам Крайнего Севера, в случае их различия.
A39: 3. В пункте 1.2.1. субъект естественных монополий указывает величину повышающего коэффициента при предоставлении внутризонового телефонного соединения, оказываемого с помощью телефониста абонентам, имеющим техническую возможность осуществлять соединения между собой автоматическим способом.
A40: 4. В пункте 1.2.3. субъект естественных монополий указывает величину повышающего коэффициента при предоставлении внутризонового телефонного соединения, оказываемого с помощью телефониста по срочному заказу.
A41: 5. В случае дифференцирования тарифов на предоставление внутризонового телефонного соединения по часам суток, дням недели, объему оказанных услуг связи, способом обслуживания и по иным основаниям субъект естественных монополий указывает тарифы для вышеперечисленных случаев.
...

Sheet Ф-9а-2 Сахалинская обл
I2: Форма № 9а-2
A3: Информация о тарифах, предельных уровнях тарифов (тарифных планов) на предоставление внутризонового телефонного соединения абоненту (пользователю) сети фиксированной телефонной связи для передачи голосовой информации, факсимильных сообщений и данных, предоставляемого МРФ "Дальний Восток" ПАО "Ростелеком" на территории Сахалинской области
A4: =#REF! -> #REF! | B4: Виды услуг | C4: Для абонентов - юридических лиц и граждан, использующих услуги телефонной связи для нужд иных, чем личные, семейные, домашние и другие, не связанные с осуществлением предпринимательской деятельности | G4: Для абонентов - граждан, использующих услуги телефонной связи для личных, семейных, домашних нужд и других, не связанных с осуществлением предпринимательской деятельности
C5: ='Ф-9а-2 Приморский край, ЕАО'!C5:D5 -> предельные максимальные уровни тарифов и тарифных планов: утвержденные ФАС России, в том числе, в соответствии с коэффициентами, за минуту соединения с 14.04.2021 г № 346/21., руб. | E5: ='Ф-9а-2 Приморский край, ЕАО'!E5:F5 -> Тарифы, установленные субъектом естественных монополий, за минуту соединения с 01.06.2021 г., руб. | G5: ='Ф-9а-2 Приморский край, ЕАО'!G5:H5 -> предельные максимальные уровни тарифов и тарифных планов: утвержденные ФАС России, в том числе, в соответствии с коэффициентами, за минуту соединения с 14.04.2021 г. № 346/21, руб. | I5: ='Ф-9а-2 Приморский край, ЕАО'!I5:J5 -> Тарифы, установленные субъектом естественных монополий, за минуту соединения с 01.06.2021 г., руб.
C6: северные районы | D6: остальные районы | E6: северные районы | F6: остальные районы | G6: северные районы | H6: остальные районы | I6: северные районы | J6: остальные районы
C7: без НДС | G7: с НДС
A8: 1 | B8: 2 | C8: 3 | D8: 4 | E8: 5 | F8: 6 | G8: 7 | H8: 8 | I8: 9 | J8: 10
A9: 1. | B9: Предоставление внутризонового телефонного соединения абоненту (пользователю) сети фиксированной телефонной связи для передачи голосовой информации, факсимильных сообщений и данных:
A10: 1.1. | B10: Автоматическим способом:
A11: 1.1.1. | B11: Между пользовательским (оконечным) оборудованием, подключенным к сети местной телефонной связи и размещенным в пределах территории одного и того же субъекта Российской Федерации
B12: по тарифным зонам на расстоянии: | E12: Период 1: с 8.00 до 24.00 | I12: Период 1: с 8.00 до 24.00
B13: до 100 км | C13: * | D13: * | E13: 3.58 | F13: * | G13: * | H13: * | I13: 3.58
B14: от 101 до 600 км | C14: * | D14: * | E14: 5.87 | F14: * | G14: * | H14: * | I14: 5.87
B15: от 601 до 1200 км | C15: * | D15: * | E15: 7.04 | F15: * | G15: * | H15: * | I15: 7.04
B16: по тарифным зонам на расстоянии: | E16: Период 2: с 00.00 до 08.00 | I16: Период 2: с 00.00 до 08.00
B17: до 100 км | C17: * | D17: * | E17: 3.42 | F17: * | G17: * | H17: * | I17: 3.42
B18: от 101 до 600 км | C18: * | D18: * | E18: 5.6 | F18: * | G18: * | H18: * | I18: 5.6
B19: от 601 до 1200 км | C19: * | D19: * | E19: 6.72 | F19: * | G19: * | H19: * | I19: 6.72
A20: 1.1.2. | B20: Между пользовательским (оконечным) оборудованием, подключенным к сети местной телефонной связи, и пользовательским (оконечным) оборудованием, подключенным к сети подвижной радиотелефонной связи:
B21: при наличии присоединения сети подвижной радиотелефонной связи к сети фиксированной зоновой телефонной связи в пределах территории того муниципального образования, города федерального значения, в котором установлено пользовательское (оконечное) оборудование вызывающего абонента, когда соответствующему абоненту сети подвижной радиотелефонной связи выделен абонентский номер, входящий в ресурс географически не определяемой зоны нумерации, закрепленный за тем же субъектом Российской Федерации | C21: * | D21: * | E21: 2 | F21: * | G21: * | H21: * | I21: 2 | J21: *
B22: при наличии присоединения сети подвижной радиотелефонной связи к сети фиксированной зоновой телефонной связи за пределами территории того муниципального образования, города федерального значения, в котором установлено пользовательское (оконечное) оборудование вызывающего абонента, когда соответствующему абоненту сети подвижной радиотелефонной связи выделен абонентский номер, входящий в ресурс географически не определяемой зоны нумерации, закрепленный за тем же субъектом Российской Федерации
B23: по тарифным зонам на расстоянии:
B24: до 100 км | C24: * | D24: * | E24: 3.58 | F24: * | G24: * | H24: * | I24: 3.58 | J24: *
B25: от 101 до 600 км | C25: * | D25: * | E25: 5.87 | F25: * | G25: * | H25: * | I25: 5.87 | J25: *
B26: от 601 до 1200 км | C26: * | D26: * | E26: 7.04 | F26: * | G26: * | H26: * | I26: 7.04 | J26: *
B27: от 1200 км до 3000 км
A28: 1.2. | B28: С помощью телефониста:
A29: 1.2.1. | B29: Оплачивается с повышающим коэффициентом __2_ к тарифам, указанным в статье 1.1, действующим на момент предоставления услуги (кроме абонентов, не имеющих технической возможности осуществлять соединение между собой автоматическим способом)
A30: 1.2.2. | B30: Оплачивается по тарифам, указанным в статье 1.1, действующим на момент предоставления услуги для абонентов, не имеющих технической возможности осуществлять соединение между собой автоматическим способом
A31: 1.2.3. | B31: Оплачивается по срочному заказу с применением повышающего коэффициента _2__ к тарифам, действующим на момент предоставления услуги (ст. 1.2.1, ст. 1.2.2)
A32: 2. | B32: Дополнительные тарифные планы на предоставление внутризонового телефонного соединения абоненту (пользователю) сети фиксированной телефонной связи для передачи голосовой информации, факсимильных сообщений и данных:
A33: 3. | B33: Дополнительные тарифные планы на предоставление местного и внутризонового телефонных соединений абоненту (пользователю) сети фиксированной телефонной связи для передачи голосовой информации, факсимильных сообщений и данных:
B34: см. Приложение 1 к форме
A35: 4. | B35: Дополнительные тарифные планы на услуги местной и внутризоновой телефонной связи (предоставление абоненту в постоянное пользование абонентской линии независимо от ее типа, местного и внутризонового телефонного соединения для передачи голосовой информации, факсимильных сообщений и данных):
A36: Примечание:
A37: 1. В графах 5, 6 субъект естественных монополий указывает тарифы отдельно для организаций финансируемых и не финансируемых из соответствующих бюджетов, в случае их различия.
A38: 2. В графах 5, 9 субъект естественных монополий указывает тарифы отдельно по территориям районов Крайнего Севера и приравненных к районам Крайнего Севера, в случае их различия.
A39: 3. В пункте 1.2.1. субъект естественных монополий указывает величину повышающего коэффициента при предоставлении внутризонового телефонного соединения, оказываемого с помощью телефониста абонентам, имеющим техническую возможность осуществлять соединения между собой автоматическим способом.
A40: 4. В пункте 1.2.3. субъект естественных монополий указывает величину повышающего коэффициента при предоставлении внутризонового телефонного соединения, оказываемого с помощью телефониста по срочному заказу.
A41: 5. В случае дифференцирования тарифов на предоставление внутризонового телефонного соединения по часам суток, дням недели, объему оказанных услуг связи, способом обслуживания и по иным основаниям субъект естественных монополий указывает тарифы для вышеперечисленных случаев.
...

Sheet Ф -9а-2 Камчатский край
I2: Форма № 9а-2
A3: Информация о тарифах, предельных уровнях тарифов (тарифных планов) на предоставление внутризонового телефонного соединения абоненту (пользователю) сети фиксированной телефонной связи для передачи голосовой информации, факсимильных сообщений и данных, предоставляемого МРФ "Дальний Восток" ПАО "Ростелеком" на территории Камчатского края
B4: Виды услуг | C4: Для абонентов - юридических лиц и граждан, использующих услуги телефонной связи для нужд иных, чем личные, семейные, домашние и другие, не связанные с осуществлением предпринимательской деятельности | G4: Для абонентов - граждан, использующих услуги телефонной связи для личных, семейных, домашних нужд и других, не связанных с осуществлением предпринимательской деятельности
C5: ='Ф-9а-2 Приморский край, ЕАО'!C5:D5 -> предельные максимальные уровни тарифов и тарифных планов: утвержденные ФАС России, в том числе, в соответствии с коэффициентами, за минуту соединения с 14.04.2021 г № 346/21., руб. | E5: ='Ф-9а-2 Приморский край, ЕАО'!E5:F5 -> Тарифы, установленные субъектом естественных монополий, за минуту соединения с 01.06.2021 г., руб. | G5: ='Ф-9а-2 Приморский край, ЕАО'!G5:H5 -> предельные максимальные уровни тарифов и тарифных планов: утвержденные ФАС России, в том числе, в соответствии с коэффициентами, за минуту соединения с 14.04.2021 г. № 346/21, руб. | I5: ='Ф-9а-2 Приморский край, ЕАО'!I5:J5 -> Тарифы, установленные субъектом естественных монополий, за минуту соединения с 01.06.2021 г., руб.
C6: северные районы | D6: остальные районы | E6: северные районы | F6: остальные районы | G6: северные районы | H6: остальные районы | I6: северные районы | J6: остальные районы
C7: без НДС | G7: с НДС
A8: 1 | B8: 2 | C8: 3 | D8: 4 | E8: 5 | F8: 6 | G8: 7 | H8: 8 | I8: 9 | J8: 10
A9: 1. | B9: Предоставление внутризонового телефонного соединения абоненту (пользователю) сети фиксированной телефонной связи для передачи голосовой информации, факсимильных сообщений и данных:
A10: 1.1. | B10: Автоматическим способом:
A11: 1.1.1. | B11: Между пользовательским (оконечным) оборудованием, подключенным к сети местной телефонной связи и размещенным в пределах территории одного и того же субъекта Российской Федерации
B12: по тарифным зонам на расстоянии: | E12: Период 1: с 8.00 до 24.00 | I12: Период 1: с 8.00 до 24.00
B13: до 100 км | C13: 2.73 | D13: * | E13: 2.73 | F13: * | G13: 2.73 | H13: * | I13: 2.73 | J13: *
B14: от 101 до 600 км | C14: 4.68 | D14: * | E14: 4.68 | F14: * | G14: 4.68 | H14: * | I14: 4.68 | J14: *
B15: от 601 до 1200 км | C15: 6.31 | D15: * | E15: =C15 -> 6.31 | F15: * | G15: 6.31 | H15: * | I15: 6.31 | J15: *
B16: по тарифным зонам на расстоянии: | E16: Период 2: с 00.00 до 08.00 | I16: Период 2: с 00.00 до 08.00
B17: до 100 км | C17: 2.73 | D17: * | E17: 2.73 | F17: * | G17: 2.73 | H17: * | I17: 2.73 | J17: *
B18: от 101 до 600 км | C18: 4.68 | D18: * | E18: 4.68 | F18: * | G18: 4.68 | H18: * | I18: 4.68 | J18: *
B19: от 601 до 1200 км | C19: 6.31 | D19: * | E19: 6.31 | F19: * | G19: 6.31 | H19: * | I19: 6.31 | J19: *
A20: 1.1.2. | B20: Между пользовательским (оконечным) оборудованием, подключенным к сети местной телефонной связи, и пользовательским (оконечным) оборудованием, подключенным к сети подвижной радиотелефонной связи:
B21: при наличии присоединения сети подвижной радиотелефонной связи к сети фиксированной зоновой телефонной связи в пределах территории того муниципального образования, города федерального значения, в котором установлено пользовательское (оконечное) оборудование вызывающего абонента, когда соответствующему абоненту сети подвижной радиотелефонной связи выделен абонентский номер, входящий в ресурс географически не определяемой зоны нумерации, закрепленный за тем же субъектом Российской Федерации | C21: 1.79 | D21: * | E21: =C21 -> 1.79 | F21: * | G21: 1.79 | H21: * | I21: =G21 -> 1.79 | J21: *
B22: при наличии присоединения сети подвижной радиотелефонной связи к сети фиксированной зоновой телефонной связи за пределами территории того муниципального образования, города федерального значения, в котором установлено пользовательское (оконечное) оборудование вызывающего абонента, когда соответствующему абоненту сети подвижной радиотелефонной связи выделен абонентский номер, входящий в ресурс географически не определяемой зоны нумерации, закрепленный за тем же субъектом Российской Федерации
B23: по тарифным зонам на расстоянии:
B24: до 100 км | C24: 2.73 | D24: * | E24: =C24 -> 2.73 | F24: * | G24: 2.73 | H24: * | I24: =G24 -> 2.73 | J24: *
B25: от 101 до 600 км | C25: 4.68 | D25: * | E25: =C25 -> 4.68 | F25: * | G25: 4.68 | H25: * | I25: =G25 -> 4.68 | J25: *
B26: от 601 до 1200 км | C26: 6.31 | D26: * | E26: =C26 -> 6.31 | F26: * | G26: 6.31 | H26: * | I26: =G26 -> 6.31 | J26: *
B27: от 1200 км до 3000 км
A28: 1.2. | B28: С помощью телефониста:
A29: 1.2.1. | B29: Оплачивается с повышающим коэффициентом __2_ к тарифам, указанным в статье 1.1, действующим на момент предоставления услуги (кроме абонентов, не имеющих технической возможности осуществлять соединение между собой автоматическим способом)
A30: 1.2.2. | B30: Оплачивается по тарифам, указанным в статье 1.1, действующим на момент предоставления услуги для абонентов, не имеющих технической возможности осуществлять соединение между собой автоматическим способом
A31: 1.2.3. | B31: Оплачивается по срочному заказу с применением повышающего коэффициента __2_ к тарифам, действующим на момент предоставления услуги (ст. 1.2.1, ст. 1.2.2)
A32: 2. | B32: Дополнительные тарифные планы на предоставление внутризонового телефонного соединения абоненту (пользователю) сети фиксированной телефонной связи для передачи голосовой информации, факсимильных сообщений и данных:
A33: 3. | B33: Дополнительные тарифные планы на предоставление местного и внутризонового телефонных соединений абоненту (пользователю) сети фиксированной телефонной связи для передачи голосовой информации, факсимильных сообщений и данных:
B34: см. Приложение 1 к форме
A35: 4. | B35: Дополнительные тарифные планы на услуги местной и внутризоновой телефонной связи (предоставление абоненту в постоянное пользование абонентской линии независимо от ее типа, местного и внутризонового телефонного соединения для передачи голосовой информации, факсимильных сообщений и данных):
A36: Примечание:
A37: 1. В графах 5, 6 субъект естественных монополий указывает тарифы отдельно для организаций финансируемых и не финансируемых из соответствующих бюджетов, в случае их различия.
A38: 2. В графах 5, 9 субъект естественных монополий указывает тарифы отдельно по территориям районов Крайнего Севера и приравненных к районам Крайнего Севера, в случае их различия.
A39: 3. В пункте 1.2.1. субъект естественных монополий указывает величину повышающего коэффициента при предоставлении внутризонового телефонного соединения, оказываемого с помощью телефониста абонентам, имеющим техническую возможность осуществлять соединения между собой автоматическим способом.
A40: 4. В пункте 1.2.3. субъект естественных монополий указывает величину повышающего коэффициента при предоставлении внутризонового телефонного соединения, оказываемого с помощью телефониста по срочному заказу.
A41: 5. В случае дифференцирования тарифов на предоставление внутризонового телефонного соединения по часам суток, дням недели, объему оказанных услуг связи, способом обслуживания и по иным основаниям субъект естественных монополий указывает тарифы для вышеперечисленных случаев.
...

Sheet Ф-9а-2 Республика Саха
I2: Форма № 9а-2
A3: Информация о тарифах, предельных уровнях тарифов (тарифных планов) на предоставление внутризонового телефонного соединения абоненту (пользователю) сети фиксированной телефонной связи для передачи голосовой информации, факсимильных сообщений и данных, предоставляемого МРФ "Дальний Восток" ПАО "Ростелеком" на территории Республики Саха (Якутия)
B4: Виды услуг | C4: Для абонентов - юридических лиц и граждан, использующих услуги телефонной связи для нужд иных, чем личные, семейные, домашние и другие, не связанные с осуществлением предпринимательской деятельности | G4: Для абонентов - граждан, использующих услуги телефонной связи для личных, семейных, домашних нужд и других, не связанных с осуществлением предпринимательской деятельности
C5: ='Ф-9а-2 Приморский край, ЕАО'!C5:D5 -> предельные максимальные уровни тарифов и тарифных планов: утвержденные ФАС России, в том числе, в соответствии с коэффициентами, за минуту соединения с 14.04.2021 г № 346/21., руб. | E5: ='Ф-9а-2 Приморский край, ЕАО'!E5:F5 -> Тарифы, установленные субъектом естественных монополий, за минуту соединения с 01.06.2021 г., руб. | G5: ='Ф-9а-2 Приморский край, ЕАО'!G5:H5 -> предельные максимальные уровни тарифов и тарифных планов: утвержденные ФАС России, в том числе, в соответствии с коэффициентами, за минуту соединения с 14.04.2021 г. № 346/21, руб. | I5: ='Ф-9а-2 Приморский край, ЕАО'!I5:J5 -> Тарифы, установленные субъектом естественных монополий, за минуту соединения с 01.06.2021 г., руб.
C6: северные районы | D6: остальные районы | E6: северные районы | F6: остальные районы | G6: северные районы | H6: остальные районы | I6: северные районы | J6: остальные районы
C7: без НДС | G7: с НДС
A8: 1 | B8: 2 | C8: 3 | D8: 4 | E8: 5 | F8: 6 | G8: 7 | H8: 8 | I8: 9 | J8: 10
A9: 1. | B9: Предоставление внутризонового телефонного соединения абоненту (пользователю) сети фиксированной телефонной связи для передачи голосовой информации, факсимильных сообщений и данных:
A10: 1.1. | B10: Автоматическим способом:
A11: 1.1.1. | B11: Между пользовательским (оконечным) оборудованием, подключенным к сети местной телефонной связи и размещенным в пределах территории одного и того же субъекта Российской Федерации
B12: по тарифным зонам на расстоянии:
B13: до 100 км | C13: 4.1 | D13: * | E13: =C13 -> 4.1 | F13: * | G13: 4.1 | H13: * | I13: =G13 -> 4.1 | J13: *
B14: от 101 до 600 км | C14: 5.48 | D14: * | E14: =C14 -> 5.48 | F14: * | G14: 5.48 | H14: * | I14: =G14 -> 5.48 | J14: *
B15: от 601 до 1200 км | C15: 7.37 | D15: * | E15: =C15 -> 7.37 | F15: * | G15: 7.37 | H15: * | I15: =G15 -> 7.37 | J15: *
B16: от 1200 км до 3000 км | C16: 8.43 | D16: * | E16: =C16 -> 8.43 | F16: * | G16: 8.43 | H16: * | I16: =G16 -> 8.43 | J16: *
A17: 1.1.2. | B17: Между пользовательским (оконечным) оборудованием, подключенным к сети местной телефонной связи, и пользовательским (оконечным) оборудованием, подключенным к сети подвижной радиотелефонной связи:
B18: при наличии присоединения сети подвижной радиотелефонной связи к сети фиксированной зоновой телефонной связи в пределах территории того муниципального образования, города федерального значения, в котором установлено пользовательское (оконечное) оборудование вызывающего абонента, когда соответствующему абоненту сети подвижной радиотелефонной связи выделен абонентский номер, входящий в ресурс географически не определяемой зоны нумерации, закрепленный за тем же субъектом Российской Федерации | C18: 2.6 | D18: * | E18: =C18 -> 2.6 | F18: * | G18: 2.6 | H18: * | I18: =G18 -> 2.6 | J18: *
B19: при наличии присоединения сети подвижной радиотелефонной связи к сети фиксированной зоновой телефонной связи за пределами территории того муниципального образования, города федерального значения, в котором установлено пользовательское (оконечное) оборудование вызывающего абонента, когда соответствующему абоненту сети подвижной радиотелефонной связи выделен абонентский номер, входящий в ресурс географически не определяемой зоны нумерации, закрепленный за тем же субъектом Российской Федерации
B20: по тарифным зонам на расстоянии:
B21: до 100 км | C21: 4.1 | D21: * | E21: =C21 -> 4.1 | F21: * | G21: 4.1 | H21: * | I21: =G21 -> 4.1 | J21: *
B22: от 101 до 600 км | C22: 5.48 | D22: * | E22: =C22 -> 5.48 | F22: * | G22: 5.48 | H22: * | I22: =G22 -> 5.48 | J22: *
B23: от 601 до 1200 км | C23: 7.37 | D23: * | E23: =C23 -> 7.37 | F23: * | G23: 7.37 | H23: * | I23: =G23 -> 7.37 | J23: *
B24: от 1200 км до 3000 км | C24: 8.43 | D24: * | E24: =C24 -> 8.43 | F24: * | G24: 8.43 | H24: * | I24: =G24 -> 8.43 | J24: *
A25: 1.2. | B25: С помощью телефониста:
A26: 1.2.1. | B26: Оплачивается с повышающим коэффициентом __2_ к тарифам, указанным в статье 1.1, действующим на момент предоставления услуги (кроме абонентов, не имеющих технической возможности осуществлять соединение между собой автоматическим способом)
A27: 1.2.2. | B27: Оплачивается по тарифам, указанным в статье 1.1, действующим на момент предоставления услуги для абонентов, не имеющих технической возможности осуществлять соединение между собой автоматическим способом
A28: 1.2.3. | B28: Оплачивается по срочному заказу с применением повышающего коэффициента _2 организаций зона 1; 2 организаций зона 2; 2 население__ к тарифам, действующим на момент предоставления услуги (ст. 1.2.1, ст. 1.2.2)
A29: 2. | B29: Дополнительные тарифные планы на предоставление внутризонового телефонного соединения абоненту (пользователю) сети фиксированной телефонной связи для передачи голосовой информации, факсимильных сообщений и данных:
A30: 3. | B30: Дополнительные тарифные планы на предоставление местного и внутризонового телефонных соединений абоненту (пользователю) сети фиксированной телефонной связи для передачи голосовой информации, факсимильных сообщений и данных:
B31: см. Приложение 1 к форме
A32: 4. | B32: Дополнительные тарифные планы на услуги местной и внутризоновой телефонной связи (предоставление абоненту в постоянное пользование абонентской линии независимо от ее типа, местного и внутризонового телефонного соединения для передачи голосовой информации, факсимильных сообщений и данных):
A33: Примечание:
A34: 1. В графах 5, 6 субъект естественных монополий указывает тарифы отдельно для организаций финансируемых и не финансируемых из соответствующих бюджетов, в случае их различия.
A35: 2. В графах 5, 9 субъект естественных монополий указывает тарифы отдельно по территориям районов Крайнего Севера и приравненных к районам Крайнего Севера, в случае их различия.
A36: 3. В пункте 1.2.1. субъект естественных монополий указывает величину повышающего коэффициента при предоставлении внутризонового телефонного соединения, оказываемого с помощью телефониста абонентам, имеющим техническую возможность осуществлять соединения между собой автоматическим способом.
A37: 4. В пункте 1.2.3. субъект естественных монополий указывает величину повышающего коэффициента при предоставлении внутризонового телефонного соединения, оказываемого с помощью телефониста по срочному заказу.
A38: 5. В случае дифференцирования тарифов на предоставление внутризонового телефонного соединения по часам суток, дням недели, объему оказанных услуг связи, способом обслуживания и по иным основаниям субъект естественных монополий указывает тарифы для вышеперечисленных случаев.
A39: 6. При наличии дополнительных тарифных планов на предоставление внутризонового телефонного соединения в зависимости от набора услуг субъект естественных монополий в пунктах 2, 3, 4 и др. указывает сведения отдельно по каждому тарифному плану.

Sheet Ф-9а-2 Чукотский АО
I2: Форма № 9а-2
A3: Информация о тарифах, предельных уровнях тарифов (тарифных планов) на предоставление внутризонового телефонного соединения абоненту (пользователю) сети фиксированной телефонной связи для передачи голосовой информации, факсимильных сообщений и данных, предоставляемого МРФ "Дальний Восток" ПАО "Ростелеком" на территории Чукотского автономного округа
B4: Виды услуг | C4: Для абонентов - юридических лиц и граждан, использующих услуги телефонной связи для нужд иных, чем личные, семейные, домашние и другие, не связанные с осуществлением предпринимательской деятельности | G4: Для абонентов - граждан, использующих услуги телефонной связи для личных, семейных, домашних нужд и других, не связанных с осуществлением предпринимательской деятельности
C5: ='Ф-9а-2 Приморский край, ЕАО'!C5:D5 -> предельные максимальные уровни тарифов и тарифных планов: утвержденные ФАС России, в том числе, в соответствии с коэффициентами, за минуту соединения с 14.04.2021 г № 346/21., руб. | E5: ='Ф-9а-2 Приморский край, ЕАО'!E5:F5 -> Тарифы, установленные субъектом естественных монополий, за минуту соединения с 01.06.2021 г., руб. | G5: ='Ф-9а-2 Приморский край, ЕАО'!G5:H5 -> предельные максимальные уровни тарифов и тарифных планов: утвержденные ФАС России, в том числе, в соответствии с коэффициентами, за минуту соединения с 14.04.2021 г. № 346/21, руб. | I5: ='Ф-9а-2 Приморский край, ЕАО'!I5:J5 -> Тарифы, установленные субъектом естественных монополий, за минуту соединения с 01.06.2021 г., руб.
C6: северные районы | D6: остальные районы | E6: северные районы | F6: остальные районы | G6: северные районы | H6: остальные районы | I6: северные районы | J6: остальные районы
C7: без НДС | G7: с НДС
A8: 1 | B8: 2 | C8: 3 | D8: 4 | E8: 5 | F8: 6 | G8: 7 | H8: 8 | I8: 9 | J8: 10
A9: 1. | B9: Предоставление внутризонового телефонного соединения абоненту (пользователю) сети фиксированной телефонной связи для передачи голосовой информации, факсимильных сообщений и данных:
A10: 1.1. | B10: Автоматическим способом:
A11: 1.1.1. | B11: Между пользовательским (оконечным) оборудованием, подключенным к сети местной телефонной связи и размещенным в пределах территории одного и того же субъекта Российской Федерации
B12: по тарифным зонам на расстоянии: | E12: Период 1: с 8.00 до 24.00 | I12: Период 1: с 8.00 до 20.00
B13: до 100 км | C13: 3.15 | D13: * | E13: =C13 -> 3.15 | F13: * | G13: 2.63 | H13: * | I13: 2.38 | J13: *
B14: от 101 до 600 км | C14: 5.79 | D14: * | E14: =C14 -> 5.79 | F14: * | G14: 4.73 | H14: * | I14: 4.29 | J14: *
B15: от 601 до 1200 км | C15: 8.43 | D15: * | E15: =C15 -> 8.43 | F15: * | G15: 8.43 | H15: * | I15: 7.55 | J15: *
B16: от 1200 км до 3000 км | C16: 10.53 | D16: * | E16: =C16 -> 10.53 | F16: * | G16: 10.53 | H16: * | I16: 9.41 | J16: *
B17: по тарифным зонам на расстоянии: | E17: Период 2: с 00.00 до 08.00 | I17: Период 2: с 20.00 до 08.00
C18: 3.15 | D18: * | E18: 2.24 | F18: * | I18: 1.59
C19: 5.79 | D19: * | E19: 4.16 | F19: * | I19: 2.85
C20: 8.43 | D20: * | E20: 5.98 | F20: * | I20: 5.02
C21: 10.53 | D21: * | E21: 7.47 | F21: * | I21: 6.26
A22: 1.1.2. | B22: Между пользовательским (оконечным) оборудованием, подключенным к сети местной телефонной связи, и пользовательским (оконечным) оборудованием, подключенным к сети подвижной радиотелефонной связи:
B23: при наличии присоединения сети подвижной радиотелефонной связи к сети фиксированной зоновой телефонной связи в пределах территории того муниципального образования, города федерального значения, в котором установлено пользовательское (оконечное) оборудование вызывающего абонента, когда соответствующему абоненту сети подвижной радиотелефонной связи выделен абонентский номер, входящий в ресурс географически не определяемой зоны нумерации, закрепленный за тем же субъектом Российской Федерации | C23: 2.1 | D23: * | E23: 2.1 | F23: * | G23: 2.1 | H23: * | I23: =G23 -> 2.1 | J23: *
B24: при наличии присоединения сети подвижной радиотелефонной связи к сети фиксированной зоновой телефонной связи за пределами территории того муниципального образования, города федерального значения, в котором установлено пользовательское (оконечное) оборудование вызывающего абонента, когда соответствующему абоненту сети подвижной радиотелефонной связи выделен абонентский номер, входящий в ресурс географически не определяемой зоны нумерации, закрепленный за тем же субъектом Российской Федерации
B25: по тарифным зонам на расстоянии:
B26: до 100 км | C26: 3.15 | D26: * | E26: =C26 -> 3.15 | F26: * | G26: 2.63 | H26: * | I26: 2.63 | J26: *
B27: от 101 до 600 км | C27: 5.79 | D27: * | E27: =C27 -> 5.79 | F27: * | G27: 4.73 | H27: * | I27: 4.73 | J27: *
B28: от 601 до 1200 км | C28: 8.43 | D28: * | E28: =C28 -> 8.43 | F28: * | G28: 8.43 | H28: * | I28: 8.43 | J28: *
B29: от 1200 км до 3000 км | C29: 10.53 | D29: * | E29: =C29 -> 10.53 | F29: * | G29: 10.53 | H29: * | I29: 10.53 | J29: *
A30: 1.2. | B30: С помощью телефониста:
A31: 1.2.1. | B31: Оплачивается с повышающим коэффициентом __2_ к тарифам, указанным в статье 1.1, действующим на момент предоставления услуги (кроме абонентов, не имеющих технической возможности осуществлять соединение между собой автоматическим способом)
A32: 1.2.2. | B32: Оплачивается по тарифам, указанным в статье 1.1, действующим на момент предоставления услуги для абонентов, не имеющих технической возможности осуществлять соединение между собой автоматическим способом
A33: 1.2.3. | B33: Оплачивается по срочному заказу с применением повышающего коэффициента _1,5 организаций зона 1; 1,6 организаций зона 2; 1,7 население__ к тарифам, действующим на момент предоставления услуги (ст. 1.2.1, ст. 1.2.2)
A34: 2. | B34: Дополнительные тарифные планы на предоставление внутризонового телефонного соединения абоненту (пользователю) сети фиксированной телефонной связи для передачи голосовой информации, факсимильных сообщений и данных:
A35: 3. | B35: Дополнительные тарифные планы на предоставление местного и внутризонового телефонных соединений абоненту (пользователю) сети фиксированной телефонной связи для передачи голосовой информации, факсимильных сообщений и данных:
B36: см. Приложение 1 к форме
A37: 4. | B37: Дополнительные тарифные планы на услуги местной и внутризоновой телефонной связи (предоставление абоненту в постоянное пользование абонентской линии независимо от ее типа, местного и внутризонового телефонного соединения для передачи голосовой информации, факсимильных сообщений и данных):
A38: Примечание:
A39: 1. В графах 5, 6 субъект естественных монополий указывает тарифы отдельно для организаций финансируемых и не финансируемых из соответствующих бюджетов, в случае их различия.
A40: 2. В графах 5, 9 субъект естественных монополий указывает тарифы отдельно по территориям районов Крайнего Севера и приравненных к районам Крайнего Севера, в случае их различия.
A41: 3. В пункте 1.2.1. субъект естественных монополий указывает величину повышающего коэффициента при предоставлении внутризонового телефонного соединения, оказываемого с помощью телефониста абонентам, имеющим техническую возможность осуществлять соединения между собой автоматическим способом.
...

Sheet Прил. 1 Приморский край
C2: Приложение 1
A5: Дополнительные тарифные планы на предоставление местного и внутризонового телефонных соединений абоненту (пользователю) сети фиксированной телефонной связи для передачи голосовой информации, факсимильных сообщений и данных, предоставляемых МРФ "Дальний Восток" ПАО "Ростелеком" на территории Приморского края
A6: №№ пунктов | B6: Виды услуг | C6: Для абонентов - граждан, использующих услуги телефонной связи для личных, семейных, домашних нужд и других, не связанных с осуществлением предпринимательской деятельности
C7: Тарифы, установленные МРФ "Дальний Восток", в руб. с НДС
C8: ГТС | D8: СТС
A9: 1 | B9: 2 | C9: 3 | D9: 4
