Workbook
Name god: [1]Справочники!$F$7
Name kv: [1]Справочники!$G$7
Name kvartal: [1]TEHSHEET!$E$2:$E$5
Name Sheet2?prefix?: "H"
Name sp_org: [1]TEHSHEET!$G$2:$G$5
Name БазаСвод: #REF!
Name БазаСвод: #REF!
Name БазовыйПериод: [1]Заголовок2!$B$15
Name г: #REF!
Name г: #REF!
Name Тек_день: #REF!
Name Тек_день: #REF!
Name Тек_день2: #REF!
Name Тек_день2: #REF!

Sheet Ф-9а-2 Приморский край, ЕАО
I2: Форма № 9а-2
A3: Информация о тарифах, предельных уровнях тарифов (тарифных планов) на предоставление внутризонового телефонного соединения абоненту (пользователю) сети фиксированной телефонной связи для передачи голосовой информации, факсимильных сообщений и данных, предоставляемого МРФ "Дальний Восток" ПАО "Ростелеком" на территории Еврейской автономной области и Приморского края
B4: Виды услуг | C4: Для абонентов - юридических лиц и граждан, использующих услуги телефонной связи для нужд иных, чем личные, семейные, домашние и другие, не связанные с осуществлением предпринимательской деятельности | G4: Для абонентов - граждан, использующих услуги телефонной связи для личных, семейных, домашних нужд и других, не связанных с осуществлением предпринимательской деятельности
C5: предельные максимальные уровни тарифов и тарифных планов: утвержденные ФАС России, в том числе, в соответствии с коэффициентами, за минуту соединения с 14.04.2021 г № 346/21., руб. | E5: Тарифы, установленные субъектом естественных монополий, за минуту соединения с 01.06.2021 г., руб. | G5: предельные максимальные уровни тарифов и тарифных планов: утвержденные ФАС России, в том числе, в соответствии с коэффициентами, за минуту соединения с 14.04.2021 г. № 346/21, руб. | I5: Тарифы, установленные субъектом естественных монополий, за минуту соединения с 01.06.2021 г., руб.
C6: северные районы | D6: остальные районы | E6: северные районы | F6: остальные районы | G6: северные районы | H6: остальные районы | I6: северные районы | J6: остальные районы
C7: без НДС | G7: с НДС
A8: 1 | B8: 2 | C8: 3 | D8: 4 | E8: 5 | F8: 6 | G8: 7 | H8: 8 | I8: 9 | J8: 10
A9: 1. | B9: Предоставление внутризонового телефонного соединения абоненту (пользователю) сети фиксированной телефонной связи для передачи голосовой информации, факсимильных сообщений и данных:
A10: 1.1. | B10: Автоматическим способом:
A11: 1.1.1. | B11: Между пользовательским (оконечным) оборудованием, подключенным к сети местной телефонной связи и размещенным в пределах территории одного и того же субъекта Российской Федерации | C11: * | D11: * | E11: * | F11: Период 1: с 8.00 до 24.00 | G11: * | H11: * | I11: * | J11: Период 1: с 8.00 до 24.00
B12: по тарифным зонам на расстоянии:
B13: до 100 км | C13: * | D13: 2.73 | E13: * | F13: =D13 -> 2.73 | G13: * | H13: 2.73 | I13: * | J13: 2.73
B14: от 101 до 600 км | C14: * | D14: 4.68 | E14: * | F14: =D14 -> 4.68 | G14: * | H14: 4.68 | I14: * | J14: 4.68
B15: по тарифным зонам на расстоянии: | C15: * | D15: * | E15: * | F15: Период 2: с 00.00 до 08.00 | G15: * | I15: * | J15: Период 2: с 00.00 до 08.00
B16: до 100 км | C16: * | D16: 2.73 | E16: * | F16: 2.73 | G16: * | H16: 2.73 | I16: * | J16: 2.73
B17: от 101 до 600 км | C17: * | D17: 4.68 | E17: * | F17: 4.68 | G17: * | H17: 4.68 | I17: * | J17: 4.68
A18: 1.1.2. | B18: Между пользовательским (оконечным) оборудованием, подключенным к сети местной телефонной связи, и пользовательским (оконечным) оборудованием, подключенным к сети подвижной радиотелефонной связи:
B19: при наличии присоединения сети подвижной радиотелефонной связи к сети фиксированной зоновой телефонной связи в пределах территории того муниципального образования, города федерального значения, в котором установлено пользовательское (оконечное) оборудование вызывающего абонента, когда соответствующему абоненту сети подвижной радиотелефонной связи выделен абонентский номер, входящий в ресурс географически не определяемой зоны нумерации, закрепленный за тем же субъектом Российской Федерации | C19: * | D19: 1.58 | E19: * | F19: =D19 -> 1.58 | G19: * | H19: 1.58 | I19: * | J19: 1.58
B20: при наличии присоединения сети подвижной радиотелефонной связи к сети фиксированной зоновой телефонной связи за пределами территории того муниципального образования, города федерального значения, в котором установлено пользовательское (оконечное) оборудование вызывающего абонента, когда соответствующему абоненту сети подвижной радиотелефонной связи выделен абонентский номер, входящий в ресурс географически не определяемой зоны нумерации, закрепленный за тем же субъектом Российской Федерации
B21: по тарифным зонам на расстоянии:
B22: до 100 км | C22: * | D22: 2.73 | E22: * | F22: =D22 -> 2.73 | G22: * | H22: 2.73 | I22: * | J22: 2.73
B23: от 101 до 600 км | C23: * | D23: 4.68 | E23: * | F23: =D23 -> 4.68 | G23: * | H23: 4.68 | I23: * | J23: 4.68
B24: от 601 до 1200 км | C24: * | D24: * | E24: * | F24: * | G24: * | H24: * | I24: * | J24: *
B25: от 1200 км до 3000 км | C25: * | D25: * | E25: * | F25: * | G25: * | H25: * | I25: * | J25: *
A26: 1.2. | B26: С помощью телефониста:
A27: 1.2.1. | B27: Оплачивается с повышающим коэффициентом __2_ к тарифам, указанным в статье 1.1, действующим на момент предоставления услуги (кроме абонентов, не имеющих технической возможности осуществлять соединение между собой автоматическим способом)
A28: 1.2.2. | B28: Оплачивается по тарифам, указанным в статье 1.1, действующим на момент предоставления услуги для абонентов, не имеющих технической возможности осуществлять соединение между собой автоматическим способом
A29: 1.2.3. | B29: Оплачивается по срочному заказу с применением повышающего коэффициента _2__ к тарифам, действующим на момент предоставления услуги (ст. 1.2.1, ст. 1.2.2)
A30: 2. | B30: Дополнительные тарифные планы на предоставление внутризонового телефонного соединения абоненту (пользователю) сети фиксированной телефонной связи для передачи голосовой информации, факсимильных сообщений и данных:
A31: 3. | B31: Дополнительные тарифные планы на предоставление местного и внутризонового телефонных соединений абоненту (пользователю) сети фиксированной телефонной связи для передачи голосовой информации, факсимильных сообщений и данных:
B32: см. Приложение 1 к форме
A33: 4. | B33: Дополнительные тарифные планы на услуги местной и внутризоновой телефонной связи (предоставление абоненту в постоянное пользование абонентской линии независимо от ее типа, местного и внутризонового телефонного соединения для передачи голосовой информации, факсимильных сообщений и данных):
A34: Примечание:
A35: 1. В графах 5, 6 субъект естественных монополий указывает тарифы отдельно для организаций финансируемых и не финансируемых из соответствующих бюджетов, в случае их различия.
A36: 2. В графах 5, 9 субъект естественных монополий указывает тарифы отдельно по территориям районов Крайнего Севера и приравненных к районам Крайнего Севера, в случае их различия.
A37: 3. В пункте 1.2.1. субъект естественных монополий указывает величину повышающего коэффициента при предоставлении внутризонового телефонного соединения, оказываемого с помощью телефониста абонентам, имеющим техническую возможность осуществлять соединения между собой автоматическим способом.
A38: 4. В пункте 1.2.3. субъект естественных монополий указывает величину повышающего коэффициента при предоставлении внутризонового телефонного соединения, оказываемого с помощью телефониста по срочному заказу.
A39: 5. В случае дифференцирования тарифов на предоставление внутризонового телефонного соединения по часам суток, дням недели, объему оказанных услуг связи, способом обслуживания и по иным основаниям субъект естественных монополий указывает тарифы для вышеперечисленных случаев.
A40: 6. При наличии дополнительных тарифных планов на предоставление внутризонового телефонного соединения в зависимости от набора услуг субъект естественных монополий в пунктах 2, 3, 4 и др. указывает сведения отдельно по каждому тарифному плану.

Sheet Ф-9а-2 Амурской обл
I2: Форма № 9а-2
A3: Информация о тарифах, предельных уровнях тарифов (тарифных планов) на предоставление внутризонового телефонного соединения абоненту (пользователю) сети фиксированной телефонной связи для передачи голосовой информации, факсимильных сообщений и данных, предоставляемого МРФ "Дальний Восток" ПАО "Ростелеком" на территории Амурской области
B4: Виды услуг | C4: Для абонентов - юридических лиц и граждан, использующих услуги телефонной связи для нужд иных, чем личные, семейные, домашние и другие, не связанные с осуществлением предпринимательской деятельности | G4: Для абонентов - граждан, использующих услуги телефонной связи для личных, семейных, домашних нужд и других, не связанных с осуществлением предпринимательской деятельности
C5: ='Ф-9а-2 Приморский край, ЕАО'!C5:D5 -> предельные максимальные уровни тарифов и тарифных планов: утвержденные ФАС России, в том числе, в соответствии с коэффициентами, за минуту соединения с 14.04.2021 г № 346/21., руб. | E5: ='Ф-9а-2 Приморский край, ЕАО'!E5:F5 -> Тарифы, установленные субъектом естественных монополий, за минуту соединения с 01.06.2021 г., руб. | G5: ='Ф-9а-2 Приморский край, ЕАО'!G5:H5 -> предельные максимальные уровни тарифов и тарифных планов: утвержденные ФАС России, в том числе, в соответствии с коэффициентами, за минуту соединения с 14.04.2021 г. № 346/21, руб. | I5: ='Ф-9а-2 Приморский край, ЕАО'!I5:J5 -> Тарифы, установленные субъектом естественных монополий, за минуту соединения с 01.06.2021 г., руб.
C6: северные районы | D6: остальные районы | E6: северные районы | F6: остальные районы | G6: северные районы | H6: остальные районы | I6: северные районы | J6: остальные районы
C7: без НДС | G7: с НДС
A8: 1 | B8: 2 | C8: 3 | D8: 4 | E8: 5 | F8: 6 | G8: 7 | H8: 8 | I8: 9 | J8: 10
A9: 1. | B9: Предоставление внутризонового телефонного соединения абоненту (пользователю) сети фиксированной телефонной связи для передачи голосовой информации, факсимильных сообщений и данных:
A10: 1.1. | B10: Автоматическим способом:
A11: 1.1.1. | B11: Между пользовательским (оконечным) оборудованием, подключенным к сети местной телефонной связи и размещенным в пределах территории одного и того же субъекта Российской Федерации
B12: по тарифным зонам на расстоянии: | E12: Период 1: с 8.00 до 24.00 | I12: Период 1: с 8.00 до 24.00
B13: до 100 км | C13: * | D13: * | E13: 3.58 | F13: 3.05 | G13: * | H13: * | I13: 3.05 | J13: 3.05
B14: от 101 до 600 км | C14: * | D14: * | E14: 5.87 | F14: 5.23 | G14: * | H14: * | I14: 5.23 | J14: 5.23
B15: от 601 до 1200 км | C15: * | D15: * | E15: 7.04 | F15: 7.04 | G15: * | H15: * | I15: 7.04 | J15: 7.04
B16: от 1200 км до 3000 км | C16: * | D16: * | E16: * | F16: * | G16: * | H16: * | I16: * | J16: *
B17: по тарифным зонам на расстоянии: | E17: Период 2: с 00.00 до 08.00 | I17: Период 2: с 00.00 до 08.00
B18: до 100 км | C18: * | D18: * | E18: 3.42 | F18: 2.94 | G18: * | H18: * | I18: 2.94 | J18: 2.94
B19: от 101 до 600 км | C19: * | D19: * | E19: 5.6 | F19: 5.02 | G19: * | H19: * | I19: 5.02 | J19: 5.02
B20: от 601 до 1200 км | C20: * | D20: * | E20: 6.72 | F20: 6.72 | G20: * | H20: * | I20: 6.72 | J20: 6.72
B21: от 1200 км до 3000 км | C21: * | D21: * | E21: * | F21: * | G21: * | H21: * | I21: * | J21: *
A22: 1.1.2. | B22: Между пользовательским (оконечным) оборудованием, подключенным к сети местной телефонной связи, и пользовательским (оконечным) оборудованием, подключенным к сети подвижной радиотелефонной связи:
B23: при наличии присоединения сети подвижной радиотелефонной связи к сети фиксированной зоновой телефонной связи в пределах территории того муниципального образования, города федерального значения, в котором установлено пользовательское (оконечное) оборудование вызывающего абонента, когда соответствующему абоненту сети подвижной радиотелефонной связи выделен абонентский номер, входящий в ресурс географически не определяемой зоны нумерации, закрепленный за тем же субъектом Российской Федерации | C23: * | D23: * | E23: 2 | F23: 1.76 | G23: * | H23: * | I23: 1.76 | J23: 1.76
B24: при наличии присоединения сети подвижной радиотелефонной связи к сети фиксированной зоновой телефонной связи за пределами территории того муниципального образования, города федерального значения, в котором установлено пользовательское (оконечное) оборудование вызывающего абонента, когда соответствующему абоненту сети подвижной радиотелефонной связи выделен абонентский номер, входящий в ресурс географически не определяемой зоны нумерации, закрепленный за тем же субъектом Российской Федерации
B25: по тарифным зонам на расстоянии:
B26: до 100 км | C26: * | D26: * | E26: 3.58 | F26: 3.05 | G26: * | H26: * | I26: 4.07 | J26: 4.07
B27: от 101 до 600 км | C27: * | D27: * | E27: 5.87 | F27: 5.23 | G27: * | H27: * | I27: 5.23 | J27: 5.23
B28: от 601 до 1200 км | C28: * | D28: * | E28: 7.04 | F28: 7.04 | G28: * | H28: * | I28: 7.04 | J28: 7.04
B29: от 1200 км до 3000 км | C29: * | D29: * | E29: * | F29: * | G29: * | H29: * | I29: * | J29: *
A30: 1.2. | B30: С помощью телефониста:
A31: 1.2.1. | B31: Оплачивается с повышающим коэффициентом __2_ к тарифам, указанным в статье 1.1, действующим на момент предоставления услуги (кроме абонентов, не имеющих технической возможности осуществлять соединение между собой автоматическим способом)
A32: 1.2.2. | B32: Оплачивается по тарифам, указанным в статье 1.1, действующим на момент предоставления услуги для абонентов, не имеющих технической возможности осуществлять соединение между собой автоматическим способом
A33: 1.2.3. | B33: Оплачивается по срочному заказу с применением повышающего коэффициента _2__ к тарифам, действующим на момент предоставления услуги (ст. 1.2.1, ст. 1.2.2)
A34: 2. | B34: Дополнительные тарифные планы на предоставление внутризонового телефонного соединения абоненту (пользователю) сети фиксированной телефонной связи для передачи голосовой информации, факсимильных сообщений и данных:
A35: 3. | B35: Дополнительные тарифные планы на предоставление местного и внутризонового телефонных соединений абоненту (пользователю) сети фиксированной телефонной связи для передачи голосовой информации, факсимильных сообщений и данных:
B36: см. Приложение 1 к форме
A37: 4. | B37: Дополнительные тарифные планы на услуги местной и внутризоновой телефонной связи (предоставление абоненту в постоянное пользование абонентской линии независимо от ее типа, местного и внутризонового телефонного соединения для передачи голосовой информации, факсимильных сообщений и данных):
A38: Примечание:
A39: 1. В графах 5, 6 субъект естественных монополий указывает тарифы отдельно для организаций финансируемых и не финансируемых из соответствующих бюджетов, в случае их различия.
A40: 2. В графах 5, 9 субъект естественных монополий указывает тарифы отдельно по территориям районов Крайнего Севера и приравненных к районам Крайнего Севера, в случае их различия.
A41: 3. В пункте 1.2.1. субъект естественных монополий указывает величину повышающего коэффициента при предоставлении внутризонового телефонного соединения, оказываемого с помощью телефониста абонентам, имеющим техническую возможность осуществлять соединения между собой автоматическим способом.
A42: 4. В пункте 1.2.3. субъект естественных монополий указывает величину повышающего коэффициента при предоставлении внутризонового телефонного соединения, оказываемого с помощью телефониста по срочному заказу.
A43: 5. В случае дифференцирования тарифов на предоставление внутризонового телефонного соединения по часам суток, дням недели, объему оказанных услуг связи, способом обслуживания и по иным основаниям субъект естественных монополий указывает тарифы для вышеперечисленных случаев.
A44: 6. При наличии дополнительных тарифных планов на предоставление внутризонового телефонного соединения в зависимости от набора услуг субъект естественных монополий в пунктах 2, 3, 4 и др. указывает сведения отдельно по каждому тарифному плану.

Sheet ф-9а-2 Хабар. край
I2: Форма № 9а-2
A3: Информация о тарифах, предельных уровнях тарифов (тарифных планов) на предоставление внутризонового телефонного соединения абоненту (пользователю) сети фиксированной телефонной связи для передачи голосовой информации, факсимильных сообщений и данных, предоставляемого МРФ "Дальний Восток" ПАО "Ростелеком" на территории Хабаровского края
B4: Виды услуг | C4: Для абонентов - юридических лиц и граждан, использующих услуги телефонной связи для нужд иных, чем личные, семейные, домашние и другие, не связанные с осуществлением предпринимательской деятельности | G4: Для абонентов - граждан, использующих услуги телефонной связи для личных, семейных, домашних нужд и других, не связанных с осуществлением предпринимательской деятельности
C5: ='Ф-9а-2 Приморский край, ЕАО'!C5:D5 -> предельные максимальные уровни тарифов и тарифных планов: утвержденные ФАС России, в том числе, в соответствии с коэффициентами, за минуту соединения с 14.04.2021 г № 346/21., руб. | E5: ='Ф-9а-2 Приморский край, ЕАО'!E5:F5 -> Тарифы, установленные субъектом естественных монополий, за минуту соединения с 01.06.2021 г., руб. | G5: ='Ф-9а-2 Приморский край, ЕАО'!G5:H5 -> предельные максимальные уровни тарифов и тарифных планов: утвержденные ФАС России, в том числе, в соответствии с коэффициентами, за минуту соединения с 14.04.2021 г. № 346/21, руб. | I5: ='Ф-9а-2 Приморский край, ЕАО'!I5:J5 -> Тарифы, установленные субъектом естественных монополий, за минуту соединения с 01.06.2021 г., руб.
C6: северные районы | D6: остальные районы | E6: северные районы | F6: остальные районы | G6: северные районы | H6: остальные районы | I6: северные районы | J6: остальные районы
C7: без НДС | G7: с НДС
A8: 1 | B8: 2 | C8: 3 | D8: 4 | E8: 5 | F8: 6 | G8: 7 | H8: 8 | I8: 9 | J8: 10
A9: 1. | B9: Предоставление внутризонового телефонного соединения абоненту (пользователю) сети фиксированной телефонной связи для передачи голосовой информации, факсимильных сообщений и данных:
A10: 1.1. | B10: Автоматическим способом:
A11: 1.1.1. | B11: Между пользовательским (оконечным) оборудованием, подключенным к сети местной телефонной связи и размещенным в пределах территории одного и того же субъекта Российской Федерации
B12: по тарифным зонам на расстоянии: | E12: Период 1: с 8.00 до 24.00 | I12: Период 1: с 8.00 до 24.00
B13: до 100 км | C13: * | D13: * | E13: 3.58 | F13: 3.05 | G13: * | H13: * | I13: 3.05 | J13: 3.05
B14: от 101 до 600 км | C14: * | D14: * | E14: 5.87 | F14: 5.23 | G14: * | H14: * | I14: 5.23 | J14: 5.23
B15: от 601 до 1200 км | C15: * | D15: * | E15: 7.04 | F15: 7.04 | G15: * | H15: * | I15: 7.04 | J15: 7.04
B16: от 1200 км до 3000 км | C16: * | D16: * | E16: 7.04 | F16: 7.04 | G16: * | H16: * | I16: 7.04 | J16: 7.04
B17: по тарифным зонам на расстоянии: | E17: Период 2: с 00.00 до 08.00 | I17: Период 2: с 00.00 до 08.00
B18: до 100 км | C18: * | D18: * | E18: 3.42 | F18: 2.94 | G18: * | H18: * | I18: 2.94 | J18: 2.94
B19: от 101 до 600 км | C19: * | D19: * | E19: 5.6 | F19: 5.02 | G19: * | H19: * | I19: 5.02 | J19: 5.02
B20: от 601 до 1200 км | C20: * | D20: * | E20: 6.72 | F20: 6.72 | G20: * | H20: * | I20: 6.72 | J20: 6.72
B21: от 1200 км до 3000 км | C21: * | D21: * | E21: 6.72 | F21: 6.72 | G21: * | H21: * | I21: 6.72 | J21: 6.72
A22: 1.1.2. | B22: Между пользовательским (оконечным) оборудованием, подключенным к сети местной телефонной связи, и пользовательским (оконечным) оборудованием, подключенным к сети подвижной радиотелефонной связи:
B23: при наличии присоединения сети подвижной радиотелефонной связи к сети фиксированной зоновой телефонной связи в пределах территории того муниципального образования, города федерального значения, в котором установлено пользовательское (оконечное) оборудование вызывающего абонента, когда соответствующему абоненту сети подвижной радиотелефонной связи выделен абонентский номер, входящий в ресурс географически не определяемой зоны нумерации, закрепленный за тем же субъектом Российской Федерации | C23: * | D23: * | E23: 2.11 | F23: 1.88 | G23: * | H23: * | I23: 1.76 | J23: 1.76
B24: при наличии присоединения сети подвижной радиотелефонной связи к сети фиксированной зоновой телефонной связи за пределами территории того муниципального образования, города федерального значения, в котором установлено пользовательское (оконечное) оборудование вызывающего абонента, когда соответствующему абоненту сети подвижной радиотелефонной связи выделен абонентский номер, входящий в ресурс географически не определяемой зоны нумерации, закрепленный за тем же субъектом Российской Федерации
B25: по тарифным зонам на расстоянии:
B26: до 100 км | C26: * | D26: * | E26: 3.85 | F26: 3.25 | G26: * | H26: * | I26: 4.07 | J26: 4.07
B27: от 101 до 600 км | C27: * | D27: * | E27: 6.24 | F27: 5.55 | G27: * | H27: * | I27: 5.23 | J27: 5.23
B28: от 601 до 1200 км | C28: * | D28: * | E28: 7.47 | F28: 7.47 | G28: * | H28: * | I28: 7.04 | J28: 7.04
B29: от 1200 км до 3000 км | C29: * | D29: * | E29: 7.47 | F29: 7.47 | G29: * | H29: * | I29: 7.04 | J29: 7.04
A30: 1.2. | B30: С помощью телефониста:
A31: 1.2.1. | B31: Оплачивается с повышающим коэффициентом __2_ к тарифам, указанным в статье 1.1, действующим на момент предоставления услуги (кроме абонентов, не имеющих технической возможности осуществлять соединение между собой автоматическим способом)
A32: 1.2.2. | B32: Оплачивается по тарифам, указанным в статье 1.1, действующим на момент предоставления услуги для абонентов, не имеющих технической возможности осуществлять соединение между собой автоматическим способом
A33: 1.2.3. | B33: Оплачивается по срочному заказу с применением повышающего коэффициента _2__ к тарифам, действующим на момент предоставления услуги (ст. 1.2.1, ст. 1.2.2)
A34: 2. | B34: Дополнительные тарифные планы на предоставление внутризонового телефонного соединения абоненту (пользователю) сети фиксированной телефонной связи для передачи голосовой информации, факсимильных сообщений и данных:
A35: 3. | B35: Дополнительные тарифные планы на предоставление местного и внутризонового телефонных соединений абоненту (пользователю) сети фиксированной телефонной связи для передачи голосовой информации, факсимильных сообщений и данных:
B36: см. Приложение 1 к форме
A37: 4. | B37: Дополнительные тарифные планы на услуги местной и внутризоновой телефонной связи (предоставление абоненту в постоянное пользование абонентской линии независимо от ее типа, местного и внутризонового телефонного соединения для передачи голосовой информации, факсимильных сообщений и данных):
A38: Примечание:
A39: 1. В графах 5, 6 субъект естественных монополий указывает тарифы отдельно для организаций финансируемых и не финансируемых из соответствующих бюджетов, в случае их различия.
A40: 2. В графах 5, 9 субъект естественных монополий указывает тарифы отдельно по территориям районов Крайнего Севера и приравненных к районам Крайнего Севера, в случае их различия.
A41: 3. В пункте 1.2.1. субъект естественных монополий указывает величину повышающего коэффициента при предоставлении внутризонового телефонного соединения, оказываемого с помощью телефониста абонентам, имеющим техническую возможность осуществлять соединения между собой автоматическим способом.
A42: 4. В пункте 1.2.3. субъект естественных монополий указывает величину повышающего коэффициента при предоставлении внутризонового телефонного соединения, оказываемого с помощью телефониста по срочному заказу.
A43: 5. В случае дифференцирования тарифов на предоставление внутризонового телефонного соединения по часам суток, дням недели, объему оказанных услуг связи, способом обслуживания и по иным основаниям субъект естественных монополий указывает тарифы для вышеперечисленных случаев.
A44: 6. При наличии дополнительных тарифных планов на предоставление внутризонового телефонного соединения в зависимости от набора услуг субъект естественных монополий в пунктах 2, 3, 4 и др. указывает сведения отдельно по каждому тарифному плану.

Sheet Ф-9а-2 Магаданск.обл.
I2: Форма № 9а-2
A3: Информация о тарифах, предельных уровнях тарифов (тарифных планов) на предоставление внутризонового телефонного соединения абоненту (пользователю) сети фиксированной телефонной связи для передачи голосовой информации, факсимильных сообщений и данных, предоставляемого МРФ "Дальний Восток" ПАО "Ростелеком" на территории Магаданской области
A4: =#REF! -> #REF! | B4: Виды услуг | C4: Для абонентов - юридических лиц и граждан, использующих услуги телефонной связи для нужд иных, чем личные, семейные, домашние и другие, не связанные с осуществлением предпринимательской деятельности | G4: Для абонентов - граждан, использующих услуги телефонной связи для личных, семейных, домашних нужд и других, не связанных с осуществлением предпринимательской деятельности
C5: ='Ф-9а-2 Приморский край, ЕАО'!C5:D5 -> предельные максимальные уровни тарифов и тарифных планов: утвержденные ФАС России, в том числе, в соответствии с коэффициентами, за минуту соединения с 14.04.2021 г № 346/21., руб. | E5: ='Ф-9а-2 Приморский край, ЕАО'!E5:F5 -> Тарифы, установленные субъектом естественных монополий, за минуту соединения с 01.06.2021 г., руб. | G5: ='Ф-9а-2 Приморский край, ЕАО'!G5:H5 -> предельные максимальные уровни тарифов и тарифных планов: утвержденные ФАС России, в том числе, в соответствии с коэффициентами, за минуту соединения с 14.04.2021 г. № 346/21, руб. | I5: ='Ф-9а-2 Приморский край, ЕАО'!I5:J5 -> Тарифы, установленные субъектом естественных монополий, за минуту соединения с 01.06.2021 г., руб.
C6: северные районы | D6: остальные районы | E6: северные районы | F6: остальные районы | G6: северные районы | H6: остальные районы | I6: северные районы | J6: остальные районы
C7: без НДС | G7: с НДС
A8: 1 | B8: 2 | C8: 3 | D8: 4 | E8: 5 | F8: 6 | G8: 7 | H8: 8 | I8: 9 | J8: 10
A9: 1. | B9: Предоставление внутризонового телефонного соединения абоненту (пользователю) сети фиксированной телефонной связи для передачи голосовой информации, факсимильных сообщений и данных:
A10: 1.1. | B10: Автоматическим способом:
A11: 1.1.1. | B11: Между пользовательским (оконечным) оборудованием, подключенным к сети местной телефонной связи и размещенным в пределах территории одного и того же субъекта Российской Федерации
B12: по тарифным зонам на расстоянии: | E12: Период 1: с 8.00 до 24.00 | I12: Период 1: с 8.00 до 24.00
B13: до 100 км | C13: 3.21 | D13: * | E13: =C13 -> 3.21 | F13: * | G13: 3.21 | H13: * | I13: 3.21 | J13: *
B14: от 101 до 600 км | C14: 5.26 | D14: * | E14: =C14 -> 5.26 | F14: * | G14: 5.26 | H14: * | I14: 5.26 | J14: *
B15: от 601 до 1200 км | C15: 6.31 | D15: * | E15: 6.31 | F15: * | G15: 6.31 | H15: * | I15: 6.31 | J15: *
B16: по тарифным зонам на расстоянии: | E16: Период 2: с 00.00 до 08.00 | I16: Период 2: с 00.00 до 08.00
B17: до 100 км | C17: 3.21 | D17: * | E17: 3.21 | F17: * | G17: 3.21 | H17: * | I17: 3.21 | J17: *
B18: от 101 до 600 км | C18: 5.26 | D18: * | E18: 5.26 | F18: * | G18: 5.26 | H18: * | I18: 5.26 | J18: *
B19: от 601 до 1200 км | C19: 6.31 | D19: * | E19: 6.31 | F19: * | G19: 6.31 | H19: * | I19: 6.31 | J19: *
A20: 1.1.2. | B20: Между пользовательским (оконечным) оборудованием, подключенным к сети местной телефонной связи, и пользовательским (оконечным) оборудованием, подключенным к сети подвижной радиотелефонной связи:
B21: при наличии присоединения сети подвижной радиотелефонной связи к сети фиксированной зоновой телефонной связи в пределах территории того муниципального образования, города федерального значения, в котором установлено пользовательское (оконечное) оборудование вызывающего абонента, когда соответствующему абоненту сети подвижной радиотелефонной связи выделен абонентский номер, входящий в ресурс географически не определяемой зоны нумерации, закрепленный за тем же субъектом Российской Федерации | C21: 1.79 | D21: * | E21: 1.79 | F21: * | G21: 1.79 | H21: * | I21: =G21 -> 1.79 | J21: *
B22: при наличии присоединения сети подвижной радиотелефонной связи к сети фиксированной зоновой телефонной связи за пределами территории того муниципального образования, города федерального значения, в котором установлено пользовательское (оконечное) оборудование вызывающего абонента, когда соответствующему абоненту сети подвижной радиотелефонной связи выделен абонентский номер, входящий в ресурс географически не определяемой зоны нумерации, закрепленный за тем же субъектом Российской Федерации
B23: по тарифным зонам на расстоянии:
B24: до 100 км | C24: 3.21 | D24: * | E24: =C24 -> 3.21 | F24: * | G24: 3.21 | H24: * | I24: 3.21 | J24: *
B25: от 101 до 600 км | C25: 5.26 | D25: * | E25: =C25 -> 5.26 | F25: * | G25: 5.26 | H25: * | I25: 5.26 | J25: *
B26: от 601 до 1200 км | C26: 6.31 | D26: * | E26: 6.31 | F26: * | G26: 6.31 | H26: * | I26: 6.31 | J26: *
B27: от 1200 км до 3000 км
A28: 1.2. | B28: С помощью телефониста:
A29: 1.2.1. | B29: Оплачивается с повышающим коэффициентом __2_ к тарифам, указанным в статье 1.1, действующим на момент предоставления услуги (кроме абонентов, не имеющих технической возможности осуществлять соединение между собой автоматическим способом)
A30: 1.2.2. | B30: Оплачивается по тарифам, указанным в статье 1.1, действующим на момент предоставления услуги для абонентов, не имеющих технической возможности осуществлять соединение между собой автоматическим способом
A31: 1.2.3. | B31: Оплачивается по срочному заказу с применением повышающего коэффициента _2__ к тарифам, действующим на момент предоставления услуги (ст. 1.2.1, ст. 1.2.2)
A32: 2. | B32: Дополнительные тарифные планы на предоставление внутризонового телефонного соединения абоненту (пользователю) сети фиксированной телефонной связи для передачи голосовой информации, факсимильных сообщений и данных:
A33: 3. | B33: Дополнительные тарифные планы на предоставление местного и внутризонового телефонных соединений абоненту (пользователю) сети фиксированной телефонной связи для передачи голосовой информации, факсимильных сообщений и данных:
B34: см. Приложение 1 к форме
A35: 4. | B35: Дополнительные тарифные планы на услуги местной и внутризоновой телефонной связи (предоставление абоненту в постоянное пользование абонентской линии независимо от ее типа, местного и внутризонового телефонного соединения для передачи голосовой информации, факсимильных сообщений и данных):
A36: Примечание:
A37: 1. В графах 5, 6 субъект естественных монополий указывает тарифы отдельно для организаций финансируемых и не финансируемых из соответствующих бюджетов, в случае их различия.
A38: 2. В графах 5, 9 субъект естественных монополий указывает тарифы отдельно по территориям районов Крайнего Севера и приравненных к районам Крайнего Севера, в случае их различия.
A39: 3. В пункте 1.2.1. субъект естественных монополий указывает величину повышающего коэффициента при предоставлении внутризонового телефонного соединения, оказываемого с помощью телефониста абонентам, имеющим техническую возможность осуществлять соединения между собой автоматическим способом.
A40: 4. В пункте 1.2.3. субъект естественных монополий указывает величину повышающего коэффициента при предоставлении внутризонового телефонного соединения, оказываемого с помощью телефониста по срочному заказу.
A41: 5. В случае дифференцирования тарифов на предоставление внутризонового телефонного соединения по часам суток, дням недели, объему оказанных услуг связи, способом обслуживания и по иным основаниям субъект естественных монополий указывает тарифы для вышеперечисленных случаев.
A42: 6. При наличии дополнительных тарифных планов на предоставление внутризонового телефонного соединения в зависимости от набора услуг субъект естественных монополий в пунктах 2, 3, 4 и др. указывает сведения отдельно по каждому тарифному плану.

Sheet Ф-9а-2 Сахалинская обл
I2: Форма № 9а-2
A3: Информация о тарифах, предельных уровнях тарифов (тарифных планов) на предоставление внутризонового телефонного соединения абоненту (пользователю) сети фиксированной телефонной связи для передачи голосовой информации, факсимильных сообщений и данных, предоставляемого МРФ "Дальний Восток" ПАО "Ростелеком" на территории Сахалинской области
A4: =#REF! -> #REF! | B4: Виды услуг | C4: Для абонентов - юридических лиц и граждан, использующих услуги телефонной связи для нужд иных, чем личные, семейные, домашние и другие, не связанные с осуществлением предпринимательской деятельности | G4: Для абонентов - граждан, использующих услуги телефонной связи для личных, семейных, домашних нужд и других, не связанных с осуществлением предпринимательской деятельности
C5: ='Ф-9а-2 Приморский край, ЕАО'!C5:D5 -> предельные максимальные уровни тарифов и тарифных планов: утвержденные ФАС России, в том числе, в соответствии с коэффициентами, за минуту соединения с 14.04.2021 г № 346/21., руб. | E5: ='Ф-9а-2 Приморский край, ЕАО'!E5:F5 -> Тарифы, установленные субъектом естественных монополий, за минуту соединения с 01.06.2021 г., руб. | G5: ='Ф-9а-2 Приморский край, ЕАО'!G5:H5 -> предельные максимальные уровни тарифов и тарифных планов: утвержденные ФАС России, в том числе, в соответствии с коэффициентами, за минуту соединения с 14.04.2021 г. № 346/21, руб. | I5: ='Ф-9а-2 Приморский край, ЕАО'!I5:J5 -> Тарифы, установленные субъектом естественных монополий, за минуту соединения с 01.06.2021 г., руб.
C6: северные районы | D6: остальные районы | E6: северные районы | F6: остальные районы | G6: северные районы | H6: остальные районы | I6: северные районы | J6: остальные районы
C7: без НДС | G7: с НДС
A8: 1 | B8: 2 | C8: 3 | D8: 4 | E8: 5 | F8: 6 | G8: 7 | H8: 8 | I8: 9 | J8: 10
A9: 1. | B9: Предоставление внутризонового телефонного соединения абоненту (пользователю) сети фиксированной телефонной связи для передачи голосовой информации, факсимильных сообщений и данных:
A10: 1.1. | B10: Автоматическим способом:
A11: 1.1.1. | B11: Между пользовательским (оконечным) оборудованием, подключенным к сети местной телефонной связи и размещенным в пределах территории одного и того же субъекта Российской Федерации
B12: по тарифным зонам на расстоянии: | E12: Период 1: с 8.00 до 24.00 | I12: Период 1: с 8.00 до 24.00
B13: до 100 км | C13: * | D13: * | E13: 3.58 | F13: * | G13: * | H13: * | I13: 3.58
B14: от 101 до 600 км | C14: * | D14: * | E14: 5.87 | F14: * | G14: * | H14: * | I14: 5.87
B15: от 601 до 1200 км | C15: * | D15: * | E15: 7.04 | F15: * | G15: * | H15: * | I15: 7.04
B16: по тарифным зонам на расстоянии: | E16: Период 2: с 00.00 до 08.00 | I16: Период 2: с 00.00 до 08.00
B17: до 100 км | C17: * | D17: * | E17: 3.42 | F17: * | G17: * | H17: * | I17: 3.42
B18: от 101 до 600 км | C18: * | D18: * | E18: 5.6 | F18: * | G18: * | H18: * | I18: 5.6
B19: от 601 до 1200 км | C19: * | D19: * | E19: 6.72 | F19: * | G19: * | H19: * | I19: 6.72
A20: 1.1.2. | B20: Между пользовательским (оконечным) оборудованием, подключенным к сети местной телефонной связи, и пользовательским (оконечным) оборудованием, подключенным к сети подвижной радиотелефонной связи:
B21: при наличии присоединения сети подвижной радиотелефонной связи к сети фиксированной зоновой телефонной связи в пределах территории того муниципального образования, города федерального значения, в котором установлено пользовательское (оконечное) оборудование вызывающего абонента, когда соответствующему абоненту сети подвижной радиотелефонной связи выделен абонентский номер, входящий в ресурс географически не определяемой зоны нумерации, закрепленный за тем же субъектом Российской Федерации | C21: * | D21: * | E21: 2 | F21: * | G21: * | H21: * | I21: 2 | J21: *
B22: при наличии присоединения сети подвижной радиотелефонной связи к сети фиксированной зоновой телефонной связи за пределами территории того муниципального образования, города федерального значения, в котором установлено пользовательское (оконечное) оборудование вызывающего абонента, когда соответствующему абоненту сети подвижной радиотелефонной связи выделен абонентский номер, входящий в ресурс географически не определяемой зоны нумерации, закрепленный за тем же субъектом Российской Федерации
B23: по тарифным зонам на расстоянии:
B24: до 100 км | C24: * | D24: * | E24: 3.58 | F24: * | G24: * | H24: * | I24: 3.58 | J24: *
B25: от 101 до 600 км | C25: * | D25: * | E25: 5.87 | F25: * | G25: * | H25: * | I25: 5.87 | J25: *
B26: от 601 до 1200 км | C26: * | D26: * | E26: 7.04 | F26: * | G26: * | H26: * | I26: 7.04 | J26: *
B27: от 1200 км до 3000 км
A28: 1.2. | B28: С помощью телефониста:
A29: 1.2.1. | B29: Оплачивается с повышающим коэффициентом __2_ к тарифам, указанным в статье 1.1, действующим на момент предоставления услуги (кроме абонентов, не имеющих технической возможности осуществлять соединение между собой автоматическим способом)
A30: 1.2.2. | B30: Оплачивается по тарифам, указанным в статье 1.1, действующим на момент предоставления услуги для абонентов, не имеющих технической возможности осуществлять соединение между собой автоматическим способом
A31: 1.2.3. | B31: Оплачивается по срочному заказу с применением повышающего коэффициента _2__ к тарифам, действующим на момент предоставления услуги (ст. 1.2.1, ст. 1.2.2)
A32: 2. | B32: Дополнительные тарифные планы на предоставление внутризонового телефонного соединения абоненту (пользователю) сети фиксированной телефонной связи для передачи голосовой информации, факсимильных сообщений и данных:
A33: 3. | B33: Дополнительные тарифные планы на предоставление местного и внутризонового телефонных соединений абоненту (пользователю) сети фиксированной телефонной связи для передачи голосовой информации, факсимильных сообщений и данных:
B34: см. Приложение 1 к форме
A35: 4. | B35: Дополнительные тарифные планы на услуги местной и внутризоновой телефонной связи (предоставление абоненту в постоянное пользование абонентской линии независимо от ее типа, местного и внутризонового телефонного соединения для передачи голосовой информации, факсимильных сообщений и данных):
A36: Примечание:
A37: 1. В графах 5, 6 субъект естественных монополий указывает тарифы отдельно для организаций финансируемых и не финансируемых из соответствующих бюджетов, в случае их различия.
A38: 2. В графах 5, 9 субъект естественных монополий указывает тарифы отдельно по территориям районов Крайнего Севера и приравненных к районам Крайнего Севера, в случае их различия.
A39: 3. В пункте 1.2.1. субъект естественных монополий указывает величину повышающего коэффициента при предоставлении внутризонового телефонного соединения, оказываемого с помощью телефониста абонентам, имеющим техническую возможность осуществлять соединения между собой автоматическим способом.
A40: 4. В пункте 1.2.3. субъект естественных монополий указывает величину повышающего коэффициента при предоставлении внутризонового телефонного соединения, оказываемого с помощью телефониста по срочному заказу.
A41: 5. В случае дифференцирования тарифов на предоставление внутризонового телефонного соединения по часам суток, дням недели, объему оказанных услуг связи, способом обслуживания и по иным основаниям субъект естественных монополий указывает тарифы для вышеперечисленных случаев.
A42: 6. При наличии дополнительных тарифных планов на предоставление внутризонового телефонного соединения в зависимости от набора услуг субъект естественных монополий в пунктах 2, 3, 4 и др. указывает сведения отдельно по каждому тарифному плану.

Sheet Ф -9а-2 Камчатский край
I2: Форма № 9а-2
A3: Информация о тарифах, предельных уровнях тарифов (тарифных планов) на предоставление внутризонового телефонного соединения абоненту (пользователю) сети фиксированной телефонной связи для передачи голосовой информации, факсимильных сообщений и данных, предоставляемого МРФ "Дальний Восток" ПАО "Ростелеком" на территории Камчатского края
B4: Виды услуг | C4: Для абонентов - юридических лиц и граждан, использующих услуги телефонной связи для нужд иных, чем личные, семейные, домашние и другие, не связанные с осуществлением предпринимательской деятельности | G4: Для абонентов - граждан, использующих услуги телефонной связи для личных, семейных, домашних нужд и других, не связанных с осуществлением предпринимательской деятельности
C5: ='Ф-9а-2 Приморский край, ЕАО'!C5:D5 -> предельные максимальные уровни тарифов и тарифных планов: утвержденные ФАС России, в том числе, в соответствии с коэффициентами, за минуту соединения с 14.04.2021 г № 346/21., руб. | E5: ='Ф-9а-2 Приморский край, ЕАО'!E5:F5 -> Тарифы, установленные субъектом естественных монополий, за минуту соединения с 01.06.2021 г., руб. | G5: ='Ф-9а-2 Приморский край, ЕАО'!G5:H5 -> предельные максимальные уровни тарифов и тарифных планов: утвержденные ФАС России, в том числе, в соответствии с коэффициентами, за минуту соединения с 14.04.2021 г. № 346/21, руб. | I5: ='Ф-9а-2 Приморский край, ЕАО'!I5:J5 -> Тарифы, установленные субъектом естественных монополий, за минуту соединения с 01.06.2021 г., руб.
C6: северные районы | D6: остальные районы | E6: северные районы | F6: остальные районы | G6: северные районы | H6: остальные районы | I6: северные районы | J6: остальные районы
C7: без НДС | G7: с НДС
A8: 1 | B8: 2 | C8: 3 | D8: 4 | E8: 5 | F8: 6 | G8: 7 | H8: 8 | I8: 9 | J8: 10
A9: 1. | B9: Предоставление внутризонового телефонного соединения абоненту (пользователю) сети фиксированной телефонной связи для передачи голосовой информации, факсимильных сообщений и данных:
A10: 1.1. | B10: Автоматическим способом:
A11: 1.1.1. | B11: Между пользовательским (оконечным) оборудованием, подключенным к сети местной телефонной связи и размещенным в пределах территории одного и того же субъекта Российской Федерации
B12: по тарифным зонам на расстоянии: | E12: Период 1: с 8.00 до 24.00 | I12: Период 1: с 8.00 до 24.00
B13: до 100 км | C13: 2.73 | D13: * | E13: 2.73 | F13: * | G13: 2.73 | H13: * | I13: 2.73 | J13: *
B14: от 101 до 600 км | C14: 4.68 | D14: * | E14: 4.68 | F14: * | G14: 4.68 | H14: * | I14: 4.68 | J14: *
B15: от 601 до 1200 км | C15: 6.31 | D15: * | E15: =C15 -> 6.31 | F15: * | G15: 6.31 | H15: * | I15: 6.31 | J15: *
B16: по тарифным зонам на расстоянии: | E16: Период 2: с 00.00 до 08.00 | I16: Период 2: с 00.00 до 08.00
B17: до 100 км | C17: 2.73 | D17: * | E17: 2.73 | F17: * | G17: 2.73 | H17: * | I17: 2.73 | J17: *
B18: от 101 до 600 км | C18: 4.68 | D18: * | E18: 4.68 | F18: * | G18: 4.68 | H18: * | I18: 4.68 | J18: *
B19: от 601 до 1200 км | C19: 6.31 | D19: * | E19: 6.31 | F19: * | G19: 6.31 | H19: * | I19: 6.31 | J19: *
A20: 1.1.2. | B20: Между пользовательским (оконечным) оборудованием, подключенным к сети местной телефонной связи, и пользовательским (оконечным) оборудованием, подключенным к сети подвижной радиотелефонной связи:
B21: при наличии присоединения сети подвижной радиотелефонной связи к сети фиксированной зоновой телефонной связи в пределах территории того муниципального образования, города федерального значения, в котором установлено пользовательское (оконечное) оборудование вызывающего абонента, когда соответствующему абоненту сети подвижной радиотелефонной связи выделен абонентский номер, входящий в ресурс географически не определяемой зоны нумерации, закрепленный за тем же субъектом Российской Федерации | C21: 1.79 | D21: * | E21: =C21 -> 1.79 | F21: * | G21: 1.79 | H21: * | I21: =G21 -> 1.79 | J21: *
B22: при наличии присоединения сети подвижной радиотелефонной связи к сети фиксированной зоновой телефонной связи за пределами территории того муниципального образования, города федерального значения, в котором установлено пользовательское (оконечное) оборудование вызывающего абонента, когда соответствующему абоненту сети подвижной радиотелефонной связи выделен абонентский номер, входящий в ресурс географически не определяемой зоны нумерации, закрепленный за тем же субъектом Российской Федерации
B23: по тарифным зонам на расстоянии:
B24: до 100 км | C24: 2.73 | D24: * | E24: =C24 -> 2.73 | F24: * | G24: 2.73 | H24: * | I24: =G24 -> 2.73 | J24: *
B25: от 101 до 600 км | C25: 4.68 | D25: * | E25: =C25 -> 4.68 | F25: * | G25: 4.68 | H25: * | I25: =G25 -> 4.68 | J25: *
B26: от 601 до 1200 км | C26: 6.31 | D26: * | E26: =C26 -> 6.31 | F26: * | G26: 6.31 | H26: * | I26: =G26 -> 6.31 | J26: *
B27: от 1200 км до 3000 км
A28: 1.2. | B28: С помощью телефониста:
A29: 1.2.1. | B29: Оплачивается с повышающим коэффициентом __2_ к тарифам, указанным в статье 1.1, действующим на момент предоставления услуги (кроме абонентов, не имеющих технической возможности осуществлять соединение между собой автоматическим способом)
A30: 1.2.2. | B30: Оплачивается по тарифам, указанным в статье 1.1, действующим на момент предоставления услуги для абонентов, не имеющих технической возможности осуществлять соединение между собой автоматическим способом
A31: 1.2.3. | B31: Оплачивается по срочному заказу с применением повышающего коэффициента __2_ к тарифам, действующим на момент предоставления услуги (ст. 1.2.1, ст. 1.2.2)
A32: 2. | B32: Дополнительные тарифные планы на предоставление внутризонового телефонного соединения абоненту (пользователю) сети фиксированной телефонной связи для передачи голосовой информации, факсимильных сообщений и данных:
A33: 3. | B33: Дополнительные тарифные планы на предоставление местного и внутризонового телефонных соединений абоненту (пользователю) сети фиксированной телефонной связи для передачи голосовой информации, факсимильных сообщений и данных:
B34: см. Приложение 1 к форме
A35: 4. | B35: Дополнительные тарифные планы на услуги местной и внутризоновой телефонной связи (предоставление абоненту в постоянное пользование абонентской линии независимо от ее типа, местного и внутризонового телефонного соединения для передачи голосовой информации, факсимильных сообщений и данных):
A36: Примечание:
A37: 1. В графах 5, 6 субъект естественных монополий указывает тарифы отдельно для организаций финансируемых и не финансируемых из соответствующих бюджетов, в случае их различия.
A38: 2. В графах 5, 9 субъект естественных монополий указывает тарифы отдельно по территориям районов Крайнего Севера и приравненных к районам Крайнего Севера, в случае их различия.
A39: 3. В пункте 1.2.1. субъект естественных монополий указывает величину повышающего коэффициента при предоставлении внутризонового телефонного соединения, оказываемого с помощью телефониста абонентам, имеющим техническую возможность осуществлять соединения между собой автоматическим способом.
A40: 4. В пункте 1.2.3. субъект естественных монополий указывает величину повышающего коэффициента при предоставлении внутризонового телефонного соединения, оказываемого с помощью телефониста по срочному заказу.
A41: 5. В случае дифференцирования тарифов на предоставление внутризонового телефонного соединения по часам суток, дням недели, объему оказанных услуг связи, способом обслуживания и по иным основаниям субъект естественных монополий указывает тарифы для вышеперечисленных случаев.
A42: 6. При наличии дополнительных тарифных планов на предоставление внутризонового телефонного соединения в зависимости от набора услуг субъект естественных монополий в пунктах 2, 3, 4 и др. указывает сведения отдельно по каждому тарифному плану.

Sheet Ф-9а-2 Республика Саха
I2: Форма № 9а-2
A3: Информация о тарифах, предельных уровнях тарифов (тарифных планов) на предоставление внутризонового телефонного соединения абоненту (пользователю) сети фиксированной телефонной связи для передачи голосовой информации, факсимильных сообщений и данных, предоставляемого МРФ "Дальний Восток" ПАО "Ростелеком" на территории Республики Саха (Якутия)
B4: Виды услуг | C4: Для абонентов - юридических лиц и граждан, использующих услуги телефонной связи для нужд иных, чем личные, семейные, домашние и другие, не связанные с осуществлением предпринимательской деятельности | G4: Для абонентов - граждан, использующих услуги телефонной связи для личных, семейных, домашних нужд и других, не связанных с осуществлением предпринимательской деятельности
C5: ='Ф-9а-2 Приморский край, ЕАО'!C5:D5 -> предельные максимальные уровни тарифов и тарифных планов: утвержденные ФАС России, в том числе, в соответствии с коэффициентами, за минуту соединения с 14.04.2021 г № 346/21., руб. | E5: ='Ф-9а-2 Приморский край, ЕАО'!E5:F5 -> Тарифы, установленные субъектом естественных монополий, за минуту соединения с 01.06.2021 г., руб. | G5: ='Ф-9а-2 Приморский край, ЕАО'!G5:H5 -> предельные максимальные уровни тарифов и тарифных планов: утвержденные ФАС России, в том числе, в соответствии с коэффициентами, за минуту соединения с 14.04.2021 г. № 346/21, руб. | I5: ='Ф-9а-2 Приморский край, ЕАО'!I5:J5 -> Тарифы, установленные субъектом естественных монополий, за минуту соединения с 01.06.2021 г., руб.
C6: северные районы | D6: остальные районы | E6: северные районы | F6: остальные районы | G6: северные районы | H6: остальные районы | I6: северные районы | J6: остальные районы
C7: без НДС | G7: с НДС
A8: 1 | B8: 2 | C8: 3 | D8: 4 | E8: 5 | F8: 6 | G8: 7 | H8: 8 | I8: 9 | J8: 10
A9: 1. | B9: Предоставление внутризонового телефонного соединения абоненту (пользователю) сети фиксированной телефонной связи для передачи голосовой информации, факсимильных сообщений и данных:
A10: 1.1. | B10: Автоматическим способом:
A11: 1.1.1. | B11: Между пользовательским (оконечным) оборудованием, подключенным к сети местной телефонной связи и размещенным в пределах территории одного и того же субъекта Российской Федерации
B12: по тарифным зонам на расстоянии:
B13: до 100 км | C13: 4.1 | D13: * | E13: =C13 -> 4.1 | F13: * | G13: 4.1 | H13: * | I13: =G13 -> 4.1 | J13: *
B14: от 101 до 600 км | C14: 5.48 | D14: * | E14: =C14 -> 5.48 | F14: * | G14: 5.48 | H14: * | I14: =G14 -> 5.48 | J14: *
B15: от 601 до 1200 км | C15: 7.37 | D15: * | E15: =C15 -> 7.37 | F15: * | G15: 7.37 | H15: * | I15: =G15 -> 7.37 | J15: *
B16: от 1200 км до 3000 км | C16: 8.43 | D16: * | E16: =C16 -> 8.43 | F16: * | G16: 8.43 | H16: * | I16: =G16 -> 8.43 | J16: *
A17: 1.1.2. | B17: Между пользовательским (оконечным) оборудованием, подключенным к сети местной телефонной связи, и пользовательским (оконечным) оборудованием, подключенным к сети подвижной радиотелефонной связи:
B18: при наличии присоединения сети подвижной радиотелефонной связи к сети фиксированной зоновой телефонной связи в пределах территории того муниципального образования, города федерального значения, в котором установлено пользовательское (оконечное) оборудование вызывающего абонента, когда соответствующему абоненту сети подвижной радиотелефонной связи выделен абонентский номер, входящий в ресурс географически не определяемой зоны нумерации, закрепленный за тем же субъектом Российской Федерации | C18: 2.6 | D18: * | E18: =C18 -> 2.6 | F18: * | G18: 2.6 | H18: * | I18: =G18 -> 2.6 | J18: *
B19: при наличии присоединения сети подвижной радиотелефонной связи к сети фиксированной зоновой телефонной связи за пределами территории того муниципального образования, города федерального значения, в котором установлено пользовательское (оконечное) оборудование вызывающего абонента, когда соответствующему абоненту сети подвижной радиотелефонной связи выделен абонентский номер, входящий в ресурс географически не определяемой зоны нумерации, закрепленный за тем же субъектом Российской Федерации
B20: по тарифным зонам на расстоянии:
B21: до 100 км | C21: 4.1 | D21: * | E21: =C21 -> 4.1 | F21: * | G21: 4.1 | H21: * | I21: =G21 -> 4.1 | J21: *
B22: от 101 до 600 км | C22: 5.48 | D22: * | E22: =C22 -> 5.48 | F22: * | G22: 5.48 | H22: * | I22: =G22 -> 5.48 | J22: *
B23: от 601 до 1200 км | C23: 7.37 | D23: * | E23: =C23 -> 7.37 | F23: * | G23: 7.37 | H23: * | I23: =G23 -> 7.37 | J23: *
B24: от 1200 км до 3000 км | C24: 8.43 | D24: * | E24: =C24 -> 8.43 | F24: * | G24: 8.43 | H24: * | I24: =G24 -> 8.43 | J24: *
A25: 1.2. | B25: С помощью телефониста:
A26: 1.2.1. | B26: Оплачивается с повышающим коэффициентом __2_ к тарифам, указанным в статье 1.1, действующим на момент предоставления услуги (кроме абонентов, не имеющих технической возможности осуществлять соединение между собой автоматическим способом)
A27: 1.2.2. | B27: Оплачивается по тарифам, указанным в статье 1.1, действующим на момент предоставления услуги для абонентов, не имеющих технической возможности осуществлять соединение между собой автоматическим способом
A28: 1.2.3. | B28: Оплачивается по срочному заказу с применением повышающего коэффициента _2 организаций зона 1; 2 организаций зона 2; 2 население__ к тарифам, действующим на момент предоставления услуги (ст. 1.2.1, ст. 1.2.2)
A29: 2. | B29: Дополнительные тарифные планы на предоставление внутризонового телефонного соединения абоненту (пользователю) сети фиксированной телефонной связи для передачи голосовой информации, факсимильных сообщений и данных:
A30: 3. | B30: Дополнительные тарифные планы на предоставление местного и внутризонового телефонных соединений абоненту (пользователю) сети фиксированной телефонной связи для передачи голосовой информации, факсимильных сообщений и данных:
B31: см. Приложение 1 к форме
A32: 4. | B32: Дополнительные тарифные планы на услуги местной и внутризоновой телефонной связи (предоставление абоненту в постоянное пользование абонентской линии независимо от ее типа, местного и внутризонового телефонного соединения для передачи голосовой информации, факсимильных сообщений и данных):
A33: Примечание:
A34: 1. В графах 5, 6 субъект естественных монополий указывает тарифы отдельно для организаций финансируемых и не финансируемых из соответствующих бюджетов, в случае их различия.
A35: 2. В графах 5, 9 субъект естественных монополий указывает тарифы отдельно по территориям районов Крайнего Севера и приравненных к районам Крайнего Севера, в случае их различия.
A36: 3. В пункте 1.2.1. субъект естественных монополий указывает величину повышающего коэффициента при предоставлении внутризонового телефонного соединения, оказываемого с помощью телефониста абонентам, имеющим техническую возможность осуществлять соединения между собой автоматическим способом.
A37: 4. В пункте 1.2.3. субъект естественных монополий указывает величину повышающего коэффициента при предоставлении внутризонового телефонного соединения, оказываемого с помощью телефониста по срочному заказу.
A38: 5. В случае дифференцирования тарифов на предоставление внутризонового телефонного соединения по часам суток, дням недели, объему оказанных услуг связи, способом обслуживания и по иным основаниям субъект естественных монополий указывает тарифы для вышеперечисленных случаев.
A39: 6. При наличии дополнительных тарифных планов на предоставление внутризонового телефонного соединения в зависимости от набора услуг субъект естественных монополий в пунктах 2, 3, 4 и др. указывает сведения отдельно по каждому тарифному плану.

Sheet Ф-9а-2 Чукотский АО
I2: Форма № 9а-2
A3: Информация о тарифах, предельных уровнях тарифов (тарифных планов) на предоставление внутризонового телефонного соединения абоненту (пользователю) сети фиксированной телефонной связи для передачи голосовой информации, факсимильных сообщений и данных, предоставляемого МРФ "Дальний Восток" ПАО "Ростелеком" на территории Чукотского автономного округа
B4: Виды услуг | C4: Для абонентов - юридических лиц и граждан, использующих услуги телефонной связи для нужд иных, чем личные, семейные, домашние и другие, не связанные с осуществлением предпринимательской деятельности | G4: Для абонентов - граждан, использующих услуги телефонной связи для личных, семейных, домашних нужд и других, не связанных с осуществлением предпринимательской деятельности
C5: ='Ф-9а-2 Приморский край, ЕАО'!C5:D5 -> предельные максимальные уровни тарифов и тарифных планов: утвержденные ФАС России, в том числе, в соответствии с коэффициентами, за минуту соединения с 14.04.2021 г № 346/21., руб. | E5: ='Ф-9а-2 Приморский край, ЕАО'!E5:F5 -> Тарифы, установленные субъектом естественных монополий, за минуту соединения с 01.06.2021 г., руб. | G5: ='Ф-9а-2 Приморский край, ЕАО'!G5:H5 -> предельные максимальные уровни тарифов и тарифных планов: утвержденные ФАС России, в том числе, в соответствии с коэффициентами, за минуту соединения с 14.04.2021 г. № 346/21, руб. | I5: ='Ф-9а-2 Приморский край, ЕАО'!I5:J5 -> Тарифы, установленные субъектом естественных монополий, за минуту соединения с 01.06.2021 г., руб.
C6: северные районы | D6: остальные районы | E6: северные районы | F6: остальные районы | G6: северные районы | H6: остальные районы | I6: северные районы | J6: остальные районы
C7: без НДС | G7: с НДС
A8: 1 | B8: 2 | C8: 3 | D8: 4 | E8: 5 | F8: 6 | G8: 7 | H8: 8 | I8: 9 | J8: 10
A9: 1. | B9: Предоставление внутризонового телефонного соединения абоненту (пользователю) сети фиксированной телефонной связи для передачи голосовой информации, факсимильных сообщений и данных:
A10: 1.1. | B10: Автоматическим способом:
A11: 1.1.1. | B11: Между пользовательским (оконечным) оборудованием, подключенным к сети местной телефонной связи и размещенным в пределах территории одного и того же субъекта Российской Федерации
B12: по тарифным зонам на расстоянии: | E12: Период 1: с 8.00 до 24.00 | I12: Период 1: с 8.00 до 20.00
B13: до 100 км | C13: 3.15 | D13: * | E13: =C13 -> 3.15 | F13: * | G13: 2.63 | H13: * | I13: 2.38 | J13: *
B14: от 101 до 600 км | C14: 5.79 | D14: * | E14: =C14 -> 5.79 | F14: * | G14: 4.73 | H14: * | I14: 4.29 | J14: *
B15: от 601 до 1200 км | C15: 8.43 | D15: * | E15: =C15 -> 8.43 | F15: * | G15: 8.43 | H15: * | I15: 7.55 | J15: *
B16: от 1200 км до 3000 км | C16: 10.53 | D16: * | E16: =C16 -> 10.53 | F16: * | G16: 10.53 | H16: * | I16: 9.41 | J16: *
B17: по тарифным зонам на расстоянии: | E17: Период 2: с 00.00 до 08.00 | I17: Период 2: с 20.00 до 08.00
C18: 3.15 | D18: * | E18: 2.24 | F18: * | I18: 1.59
C19: 5.79 | D19: * | E19: 4.16 | F19: * | I19: 2.85
C20: 8.43 | D20: * | E20: 5.98 | F20: * | I20: 5.02
C21: 10.53 | D21: * | E21: 7.47 | F21: * | I21: 6.26
A22: 1.1.2. | B22: Между пользовательским (оконечным) оборудованием, подключенным к сети местной телефонной связи, и пользовательским (оконечным) оборудованием, подключенным к сети подвижной радиотелефонной связи:
B23: при наличии присоединения сети подвижной радиотелефонной связи к сети фиксированной зоновой телефонной связи в пределах территории того муниципального образования, города федерального значения, в котором установлено пользовательское (оконечное) оборудование вызывающего абонента, когда соответствующему абоненту сети подвижной радиотелефонной связи выделен абонентский номер, входящий в ресурс географически не определяемой зоны нумерации, закрепленный за тем же субъектом Российской Федерации | C23: 2.1 | D23: * | E23: 2.1 | F23: * | G23: 2.1 | H23: * | I23: =G23 -> 2.1 | J23: *
B24: при наличии присоединения сети подвижной радиотелефонной связи к сети фиксированной зоновой телефонной связи за пределами территории того муниципального образования, города федерального значения, в котором установлено пользовательское (оконечное) оборудование вызывающего абонента, когда соответствующему абоненту сети подвижной радиотелефонной связи выделен абонентский номер, входящий в ресурс географически не определяемой зоны нумерации, закрепленный за тем же субъектом Российской Федерации
B25: по тарифным зонам на расстоянии:
B26: до 100 км | C26: 3.15 | D26: * | E26: =C26 -> 3.15 | F26: * | G26: 2.63 | H26: * | I26: 2.63 | J26: *
B27: от 101 до 600 км | C27: 5.79 | D27: * | E27: =C27 -> 5.79 | F27: * | G27: 4.73 | H27: * | I27: 4.73 | J27: *
B28: от 601 до 1200 км | C28: 8.43 | D28: * | E28: =C28 -> 8.43 | F28: * | G28: 8.43 | H28: * | I28: 8.43 | J28: *
B29: от 1200 км до 3000 км | C29: 10.53 | D29: * | E29: =C29 -> 10.53 | F29: * | G29: 10.53 | H29: * | I29: 10.53 | J29: *
A30: 1.2. | B30: С помощью телефониста:
A31: 1.2.1. | B31: Оплачивается с повышающим коэффициентом __2_ к тарифам, указанным в статье 1.1, действующим на момент предоставления услуги (кроме абонентов, не имеющих технической возможности осуществлять соединение между собой автоматическим способом)
A32: 1.2.2. | B32: Оплачивается по тарифам, указанным в статье 1.1, действующим на момент предоставления услуги для абонентов, не имеющих технической возможности осуществлять соединение между собой автоматическим способом
A33: 1.2.3. | B33: Оплачивается по срочному заказу с применением повышающего коэффициента _1,5 организаций зона 1; 1,6 организаций зона 2; 1,7 население__ к тарифам, действующим на момент предоставления услуги (ст. 1.2.1, ст. 1.2.2)
A34: 2. | B34: Дополнительные тарифные планы на предоставление внутризонового телефонного соединения абоненту (пользователю) сети фиксированной телефонной связи для передачи голосовой информации, факсимильных сообщений и данных:
A35: 3. | B35: Дополнительные тарифные планы на предоставление местного и внутризонового телефонных соединений абоненту (пользователю) сети фиксированной телефонной связи для передачи голосовой информации, факсимильных сообщений и данных:
B36: см. Приложение 1 к форме
A37: 4. | B37: Дополнительные тарифные планы на услуги местной и внутризоновой телефонной связи (предоставление абоненту в постоянное пользование абонентской линии независимо от ее типа, местного и внутризонового телефонного соединения для передачи голосовой информации, факсимильных сообщений и данных):
A38: Примечание:
A39: 1. В графах 5, 6 субъект естественных монополий указывает тарифы отдельно для организаций финансируемых и не финансируемых из соответствующих бюджетов, в случае их различия.
A40: 2. В графах 5, 9 субъект естественных монополий указывает тарифы отдельно по территориям районов Крайнего Севера и приравненных к районам Крайнего Севера, в случае их различия.
A41: 3. В пункте 1.2.1. субъект естественных монополий указывает величину повышающего коэффициента при предоставлении внутризонового телефонного соединения, оказываемого с помощью телефониста абонентам, имеющим техническую возможность осуществлять соединения между собой автоматическим способом.
A42: 4. В пункте 1.2.3. субъект естественных монополий указывает величину повышающего коэффициента при предоставлении внутризонового телефонного соединения, оказываемого с помощью телефониста по срочному заказу.
A43: 5. В случае дифференцирования тарифов на предоставление внутризонового телефонного соединения по часам суток, дням недели, объему оказанных услуг связи, способом обслуживания и по иным основаниям субъект естественных монополий указывает тарифы для вышеперечисленных случаев.
A44: 6. При наличии дополнительных тарифных планов на предоставление внутризонового телефонного соединения в зависимости от набора услуг субъект естественных монополий в пунктах 2, 3, 4 и др. указывает сведения отдельно по каждому тарифному плану.

Sheet Прил. 1 Приморский край
C2: Приложение 1
A5: Дополнительные тарифные планы на предоставление местного и внутризонового телефонных соединений абоненту (пользователю) сети фиксированной телефонной связи для передачи голосовой информации, факсимильных сообщений и данных, предоставляемых МРФ "Дальний Восток" ПАО "Ростелеком" на территории Приморского края
A6: №№ пунктов | B6: Виды услуг | C6: Для абонентов - граждан, использующих услуги телефонной связи для личных, семейных, домашних нужд и других, не связанных с осуществлением предпринимательской деятельности
C7: Тарифы, установленные МРФ "Дальний Восток", в руб. с НДС
C8: ГТС | D8: СТС
A9: 1 | B9: 2 | C9: 3 | D9: 4
A10: 1. | B10: Предоставление местного и внутризонового телефонных соединений абоненту (пользователю) сети фиксированной телефонной связи для передачи голосовой информации, факсимильных сообщений и данных автоматическим способом:
A11: 1.1. | B11: с использованием абонентской системы оплаты местных телефонных соединений за неограниченный объем местных телефонных соединений и за базовый объем внутризоновых телефонных соединений в размере 30 минут
A12: 1.1.1. | B12: с абонентского номера индивидуального пользования по тарифным зонам на расстоянии:
B13: до 100 км | C13: 335 | D13: 335
B14: от 101 до 600 км | C14: 380 | D14: 380
A15: 1.1.2. | B15: с абонентского номера при спаренной схеме включения по тарифным зонам на расстоянии:
B16: до 100 км | C16: 208 | D16: 208
B17: от 101 до 600 км | C17: 258 | D17: 258
A18: 1.2. | B18: с использованием абонентской системы оплаты местных телефонных соединений за неограниченный объем местных телефонных соединений и за базовый объем внутризоновых телефонных соединений в размере 60 минут
A19: 1.2.1. | B19: с абонентского номера индивидуального пользования по тарифным зонам на расстоянии:
B20: до 100 км | C20: 395 | D20: 395
B21: от 101 до 600 км | C21: 485 | D21: 485
A22: 1.2.2. | B22: с абонентского номера при спаренной схеме включения по тарифным зонам на расстоянии:
B23: до 100 км | C23: 268 | D23: 268
B24: от 101 до 600 км | C24: 348 | D24: 348
B25: свыше 601 км
A26: 1.3. | B26: сверх базового объема внутризоновых телефонных соединений за минуту внутризонового телефонного соединения
A27: 1.3.1. | B27: Период 1: с 08.00ч до 24.00ч
B28: по тарифным зонам на расстоянии:
B29: до 100 км | C29: 2.73 | D29: 2.73
B30: от 101 до 600 км | C30: 4.68 | D30: 4.68
A31: 1.3.2. | B31: Период 2: с 00.00ч до 08.00ч
B32: по тарифным зонам на расстоянии:
B33: до 100 км | C33: 2.73 | D33: 2.73
B34: от 101 до 600 км | C34: 4.68 | D34: 4.68
A35: 1.4. | B35: с использованием абонентской системы оплаты местных и внутризоновых телефонных соединений за неограниченный объем местных и внутризоновых телефонных соединений:
A36: 1.4.1. | B36: с абонентского номера индивидуального пользования по тарифным зонам на расстоянии:
B37: независимо от тарифной зоны | C37: 2045 | D37: 1975
B38: до 100 км | C38: 1245 | D38: 1175
B39: от 101 до 600 км | C39: 1445 | D39: 1375
A40: 1.4.2. | B40: с абонентского номера при спаренной схеме включения по тарифным зонам на расстоянии:
B41: независимо от тарифной зоны | C41: 1930 | D41: 1930
B42: до 100 км | C42: 1130 | D42: 1130
B43: от 101 до 600 км | C43: 1330 | D43: 1330

Sheet  Прил 1 Хабаровский край
C2: Приложение 1
A5: Дополнительные тарифные планы на предоставление местного и внутризонового телефонных соединений абоненту (пользователю) сети фиксированной телефонной связи для передачи голосовой информации, факсимильных сообщений и данных, предоставляемых МРФ "Дальний Восток" ПАО «Ростелеком» на территории Хабаровского края
A6: №№ пунктов | B6: Виды услуг | C6: Для абонентов - граждан, использующих услуги телефонной связи для личных, семейных, домашних нужд и других, не связанных с осуществлением предпринимательской деятельности
C7: Тарифы, установленные МРФ "Дальний Восток", в руб. с НДС
C8: ГТС | D8: СТС
A9: 1 | B9: 2 | C9: 3 | D9: 4
A10: 1. | B10: Предоставление местного и внутризонового телефонных соединений абоненту (пользователю) сети фиксированной телефонной связи для передачи голосовой информации, факсимильных сообщений и данных автоматическим способом:
A11: 1.1. | B11: с использованием абонентской системы оплаты местных телефонных соединений за неограниченный объем местных телефонных соединений и за базовый объем внутризоновых телефонных соединений в размере 30 минут
A12: 1.1.1. | B12: с абонентского номера индивидуального пользования по тарифным зонам на расстоянии:
B13: до 100 км | C13: 340 | D13: 330,00 зона 1/ 340,00 зона 2
B14: от 101 до 600 км | C14: 380 | D14: 370,00 зона 1/ 380,00 зона 2
B15: свыше 601 км | C15: 435 | D15: 430,00 зона 1/ 435,00 зона 2
A16: 1.1.2. | B16: с абонентского номера при спаренной схеме включения по тарифным зонам на расстоянии:
B17: до 100 км | C17: 208 | D17: 200,00 зона 1/ 208,00 зона 2
B18: от 101 до 600 км | C18: 258 | D18: 250,00 зона 1/ 258,00 зона 2
B19: свыше 601 км | C19: 303 | D19: 300,00 зона 1/ 303,00 зона 2
A20: 1.2. | B20: с использованием абонентской системы оплаты местных телефонных соединений за неограниченный объем местных телефонных соединений и за базовый объем внутризоновых телефонных соединений в размере 60 минут
A21: 1.2.1. | B21: с абонентского номера индивидуального пользования по тарифным зонам на расстоянии:
B22: до 100 км | C22: 395 | D22: 385,00 зона 1/ 395,00 зона 2
B23: от 101 до 600 км | C23: 485 | D23: 480,00 зона 1/ 485,00 зона 2
B24: свыше 601 км | C24: 580 | D24: 580
A25: 1.2.2. | B25: с абонентского номера при спаренной схеме включения по тарифным зонам на расстоянии:
B26: до 100 км | C26: 268 | D26: 265,00 зона 1/ 268,00 зона 2
B27: от 101 до 600 км | C27: 348 | D27: 360,00 зона 1/ 348,00 зона 2
B28: свыше 601 км | C28: 433 | D28: 455,00 зона 1/ 433,00 зона 2
A29: 1.3. | B29: сверх базового объема внутризоновых телефонных соединений за минуту внутризонового телефонного соединения
A30: 1.3.1. | B30: Период 1: с 08.00ч до 24.00ч
B31: по тарифным зонам на расстоянии:
B32: до 100 км | C32: 3.05 | D32: 3.05
B33: от 101 до 600 км | C33: 5.23 | D33: 5.23
B34: свыше 601 км | C34: 7.04 | D34: 7.04
A35: 1.3.2. | B35: Период 2: с 00.00ч до 08.00ч
B36: по тарифным зонам на расстоянии:
B37: до 100 км | C37: 2.94 | D37: 2.94
B38: от 101 до 600 км | C38: 5.02 | D38: 5.02
B39: свыше 601 км | C39: 6.72 | D39: 6.72
A40: 1.4. | B40: с использованием абонентской системы оплаты местных и внутризоновых телефонных соединений за неограниченный объем местных и внутризоновых телефонных соединений:
A41: 1.4.1. | B41: с абонентского номера индивидуального пользования по тарифным зонам на расстоянии:
B42: независимо от тарифной зоны | C42: 2045 | D42: 1965,00 зона 1/ 2045,00 зона 2
B43: до 100 км | C43: 1245 | D43: 1165,00 зона 1/ 1245,00 зона 2
B44: от 101 до 600 км | C44: 1445 | D44: 1365,00 зона 1/ 1445,00 зона 2
B45: свыше 601 км | C45: 1545 | D45: 1465,00 зона 1/ 1545,00 зона 2
A46: 1.4.2. | B46: с абонентского номера при спаренной схеме включения по тарифным зонам на расстоянии:
B47: независимо от тарифной зоны | C47: 1930 | D47: 1930
B48: до 100 км | C48: 1130 | D48: 1130
B49: от 101 до 600 км | C49: 1330 | D49: 1330
B50: свыше 601 км | C50: 1430 | D50: 1430

Sheet Прил 1 ЕАО
C2: Приложение 1
A5: Дополнительные тарифные планы на предоставление местного и внутризонового телефонных соединений абоненту (пользователю) сети фиксированной телефонной связи для передачи голосовой информации, факсимильных сообщений и данных, предоставляемых МРФ "Дальний Восток" ПАО «Ростелеком» на территории Еврейской автономной области
A6: №№ пунктов | B6: Виды услуг | C6: Для абонентов - граждан, использующих услуги телефонной связи для личных, семейных, домашних нужд и других, не связанных с осуществлением предпринимательской деятельности
C7: Тарифы, установленные МРФ "Дальний Восток", в руб. с НДС
C8: ГТС | D8: СТС
A9: 1 | B9: 2 | C9: 3 | D9: 4
A10: 1. | B10: Предоставление местного и внутризонового телефонных соединений абоненту (пользователю) сети фиксированной телефонной связи для передачи голосовой информации, факсимильных сообщений и данных автоматическим способом:
A11: 1.1. | B11: с использованием абонентской системы оплаты местных телефонных соединений за неограниченный объем местных телефонных соединений и за базовый объем внутризоновых телефонных соединений в размере 30 минут
A12: 1.1.1. | B12: с абонентского номера индивидуального пользования по тарифным зонам на расстоянии:
B13: до 100 км | C13: 325 | D13: 300
B14: от 101 до 600 км | C14: 370 | D14: 355
A15: 1.1.2. | B15: с абонентского номера при спаренной схеме включения по тарифным зонам на расстоянии:
B16: до 100 км | C16: 198 | D16: 190
B17: от 101 до 600 км | C17: 248 | D17: 248
A18: 1.2. | B18: с использованием абонентской системы оплаты местных телефонных соединений за неограниченный объем местных телефонных соединений и за базовый объем внутризоновых телефонных соединений в размере 60 минут
A19: 1.2.1. | B19: с абонентского номера индивидуального пользования по тарифным зонам на расстоянии:
B20: до 100 км | C20: 380 | D20: 359
B21: от 101 до 600 км | C21: 468 | D21: 462
A22: 1.2.2. | B22: с абонентского номера при спаренной схеме включения по тарифным зонам на расстоянии:
B23: до 100 км | C23: 265 | D23: 262
B24: от 101 до 600 км | C24: 338 | D24: 345
A25: 1.3. | B25: сверх базового объема внутризоновых телефонных соединений за минуту внутризонового телефонного соединения
A26: 1.3.1. | B26: Период 1: с 08.00ч до 24.00ч
B27: по тарифным зонам на расстоянии:
B28: до 100 км | C28: 2.73 | D28: 2.73
B29: от 101 до 600 км | C29: 4.68 | D29: 4.68
A30: 1.3.2. | B30: Период 2: с 00.00ч до 08.00ч
B31: по тарифным зонам на расстоянии:
B32: до 100 км | C32: 2.73 | D32: 2.73
B33: от 101 до 600 км | C33: 4.68 | D33: 4.68
A34: 1.4. | B34: с использованием абонентской системы оплаты местных и внутризоновых телефонных соединений за неограниченный объем местных и внутризоновых телефонных соединений: | C34: 2075 | D34: 1970
A35: 1.4.1. | B35: с абонентского номера индивидуального пользования по тарифным зонам на расстоянии:
B36: независимо от тарифной зоны
B37: до 100 км | C37: 1235 | D37: 1170
B38: от 101 до 600 км | C38: 1435 | D38: 1370
A39: 1.4.2. | B39: с абонентского номера при спаренной схеме включения по тарифным зонам на расстоянии:
B40: независимо от тарифной зоны | C40: 1950 | D40: 1950
B41: до 100 км | C41: 1140 | D41: 1140
B42: от 101 до 600 км | C42: 1340 | D42: 1340

Sheet Прил 1 Амурская область
C2: Приложение 1
A5: Дополнительные тарифные планы на предоставление местного и внутризонового телефонных соединений абоненту (пользователю) сети фиксированной телефонной связи для передачи голосовой информации, факсимильных сообщений и данных, предоставляемых МРФ "Дальний Восток" ПАО «Ростелеком» на территории Амурской области
A6: №№ пунктов | B6: Виды услуг | C6: Для абонентов - граждан, использующих услуги телефонной связи для личных, семейных, домашних нужд и других, не связанных с осуществлением предпринимательской деятельности
C7: Тарифы, установленные МРФ "Дальний Восток", в руб. с НДС
C8: ГТС | D8: СТС
A9: 1 | B9: 2 | C9: 3 | D9: 4
A10: 1. | B10: Предоставление местного и внутризонового телефонных соединений абоненту (пользователю) сети фиксированной телефонной связи для передачи голосовой информации, факсимильных сообщений и данных автоматическим способом:
A11: 1.1. | B11: с использованием абонентской системы оплаты местных телефонных соединений за неограниченный объем местных телефонных соединений и за базовый объем внутризоновых телефонных соединений в размере 30 минут
A12: 1.1.1. | B12: с абонентского номера индивидуального пользования по тарифным зонам на расстоянии:
B13: до 100 км | C13: 340 | D13: 300,00 зона 1/ 340,00 зона 2
B14: от 101 до 600 км | C14: 385 | D14: 355,00 зона 1/ 385,00 зона 2
B15: свыше 601 км | C15: 435 | D15: 410,00 зона 1/ 435,00 зона 2
A16: 1.2. | B16: с использованием абонентской системы оплаты местных телефонных соединений за неограниченный объем местных телефонных соединений и за базовый объем внутризоновых телефонных соединений в размере 60 минут
A17: 1.2.1. | B17: с абонентского номера индивидуального пользования по тарифным зонам на расстоянии:
B18: до 100 км | C18: 395 | D18: 365,00 зона 1/ 395,00 зона 2
B19: от 101 до 600 км | C19: 485 | D19: 475,00 зона 1/ 485,00 зона 2
B20: свыше 601 км | C20: 580 | D20: 570,00 зона 1/ 580,00 зона 2
A21: 1.3. | B21: сверх базового объема внутризоновых телефонных соединений за минуту внутризонового телефонного соединения
A22: 1.3.1. | B22: Период 1: с 08.00ч до 24.00ч
B23: по тарифным зонам на расстоянии:
B24: до 100 км | C24: 4.07 | D24: 4.07
B25: от 101 до 600 км | C25: 5.23 | D25: 5.23
B26: свыше 601 км | C26: 7.04 | D26: 7.04
A27: 1.3.2. | B27: Период 2: с 00.00ч до 08.00ч
B28: по тарифным зонам на расстоянии:
B29: до 100 км | C29: 2.94 | D29: 2.94
B30: от 101 до 600 км | C30: 5.02 | D30: 5.02
B31: свыше 601 км | C31: 6.72 | D31: 6.72
A32: 1.4. | B32: с использованием абонентской системы оплаты местных и внутризоновых телефонных соединений за неограниченный объем местных и внутризоновых телефонных соединений:
A33: 1.4.1. | B33: с абонентского номера индивидуального пользования по тарифным зонам на расстоянии:
B34: независимо от тарифной зоны | C34: 2045 | D34: 1970,00 зона 1/ 2045,00 зона 2
B35: до 100 км | C35: 1245 | D35: 1170,00 зона 1/ 1245,00 зона 2
B36: от 101 до 600 км | C36: 1445 | D36: 1370,00 зона 1/ 1445,00 зона 2
B37: свыше 601 км | C37: 1545 | D37: 1470,00 зона 1/ 1545,00 зона 2

Sheet Прил 1 Сахалинская область
C2: Приложение 1
A5: Дополнительные тарифные планы на предоставление местного и внутризонового телефонных соединений абоненту (пользователю) сети фиксированной телефонной связи для передачи голосовой информации, факсимильных сообщений и данных, предоставляемых МРФ "Дальний Восток" ПАО «Ростелеком» на территории Сахалинской области
A6: №№ пунктов | B6: Виды услуг | C6: Для абонентов - граждан, использующих услуги телефонной связи для личных, семейных, домашних нужд и других, не связанных с осуществлением предпринимательской деятельности
C7: Тарифы, установленные МРФ "Дальний Восток", в руб. с НДС
C8: ГТС и СТС
A9: 1 | B9: 2 | C9: 3
A10: 1. | B10: Предоставление местного и внутризонового телефонных соединений абоненту (пользователю) сети фиксированной телефонной связи для передачи голосовой информации, факсимильных сообщений и данных автоматическим способом:
A11: 1.1. | B11: с использованием абонентской системы оплаты местных телефонных соединений за неограниченный объем местных телефонных соединений и за базовый объем внутризоновых телефонных соединений в размере 30 минут
A12: 1.1.1. | B12: с абонентского номера индивидуального пользования по тарифным зонам на расстоянии:
B13: до 100 км | C13: 380
B14: от 101 до 600 км | C14: 440
B15: свыше 601 км | C15: 480
A16: 1.1.2. | B16: с абонентского номера при спаренной схеме включения по тарифным зонам на расстоянии:
B17: до 100 км | C17: 240
B18: от 101 до 600 км | C18: 290
B19: свыше 601 км | C19: 325
A20: 1.2. | B20: с использованием абонентской системы оплаты местных телефонных соединений за неограниченный объем местных телефонных соединений и за базовый объем внутризоновых телефонных соединений в размере 60 минут
A21: 1.2.1. | B21: с абонентского номера индивидуального пользования по тарифным зонам на расстоянии:
B22: до 100 км | C22: 460
B23: от 101 до 600 км | C23: 555
B24: свыше 601 км | C24: 625
A25: 1.2.2. | B25: с абонентского номера при спаренной схеме включения по тарифным зонам на расстоянии:
B26: до 100 км | C26: 300
B27: от 101 до 600 км | C27: 385
B28: свыше 601 км | C28: 465
A29: 1.3. | B29: сверх базового объема внутризоновых телефонных соединений за минуту внутризонового телефонного соединения
A30: 1.3.1. | B30: Период 1: с 08.00ч до 24.00ч
B31: по тарифным зонам на расстоянии:
B32: до 100 км | C32: 3.58
B33: от 101 до 600 км | C33: 5.87
B34: свыше 601 км | C34: 7.04
A35: 1.3.2. | B35: Период 2: с 00.00ч до 08.00ч
B36: по тарифным зонам на расстоянии:
B37: до 100 км | C37: 3.42
B38: от 101 до 600 км | C38: 5.6
B39: свыше 601 км | C39: 6.72
A40: 1.4. | B40: с использованием абонентской системы оплаты местных и внутризоновых телефонных соединений за неограниченный объем местных и внутризоновых телефонных соединений:
A41: 1.4.1. | B41: с абонентского номера индивидуального пользования по тарифным зонам на расстоянии:
B42: независимо от тарифной зоны | C42: 2085
B43: до 100 км | C43: 1285
B44: от 101 до 600 км | C44: 1485
B45: свыше 601 км | C45: 1585
A46: 1.4.2. | B46: с абонентского номера при спаренной схеме включения по тарифным зонам на расстоянии:
B47: независимо от тарифной зоны | C47: 1960
B48: до 100 км | C48: 1160
B49: от 101 до 600 км | C49: 1360
B50: свыше 601 км | C50: 1460

Sheet Прил 1 Магаданская область
C2: Приложение 1
A5: Дополнительные тарифные планы на предоставление местного и внутризонового телефонных соединений абоненту (пользователю) сети фиксированной телефонной связи для передачи голосовой информации, факсимильных сообщений и данных, предоставляемых МРФ "Дальний Восток" ПАО «Ростелеком» на территории Магаданской области
A6: №№ пунктов | B6: Виды услуг | C6: Для абонентов - граждан, использующих услуги телефонной связи для личных, семейных, домашних нужд и других, не связанных с осуществлением предпринимательской деятельности
C7: Тарифы, установленные МРФ "Дальний Восток", в руб. с НДС
C8: ГТС | D8: СТС
A9: 1 | B9: 2 | C9: 3 | D9: 4
A10: 1. | B10: Предоставление местного и внутризонового телефонных соединений абоненту (пользователю) сети фиксированной телефонной связи для передачи голосовой информации, факсимильных сообщений и данных автоматическим способом:
A11: 1.1. | B11: с использованием абонентской системы оплаты местных телефонных соединений за неограниченный объем местных телефонных соединений и за базовый объем внутризоновых телефонных соединений в размере 30 минут
B12: с абонентского номера индивидуального пользования по тарифным зонам на расстоянии:
B13: до 100 км | C13: 365 | D13: 300
B14: от 101 до 600 км | C14: 425 | D14: 355
A15: 1.2. | B15: с использованием абонентской системы оплаты местных телефонных соединений за неограниченный объем местных телефонных соединений и за базовый объем внутризоновых телефонных соединений в размере 60 минут
B16: с абонентского номера индивидуального пользования по тарифным зонам на расстоянии:
B17: до 100 км | C17: 445 | D17: 375
B18: от 101 до 600 км | C18: 540 | D18: 485
A19: 1.3. | B19: сверх базового объема внутризоновых телефонных соединений за минуту внутризонового телефонного соединения
A20: 1.3.1. | B20: Период 1: с 08.00ч до 24.00ч
B21: по тарифным зонам на расстоянии:
B22: до 100 км | C22: 3.21 | D22: 3.21
B23: от 101 до 600 км | C23: 5.26 | D23: 5.26
B24: от 601 км до 1200 км | C24: 6.31 | D24: 6.31
A25: 1.3.2. | B25: Период 2: с 00.00ч до 08.00ч
B26: по тарифным зонам на расстоянии:
B27: до 100 км | C27: 3.21 | D27: 3.21
B28: от 101 до 600 км | C28: 5.26 | D28: 5.26
B29: от 601 км до 1200 км | C29: 6.31 | D29: 6.31
A30: 1.4. | B30: с использованием абонентской системы оплаты местных и внутризоновых телефонных соединений за неограниченный объем местных и внутризоновых телефонных соединений:
A31: 1.4.1. | B31: с абонентского номера индивидуального пользования по тарифным зонам на расстоянии:
B32: независимо от тарифной зоны | C32: 2070 | D32: 1970
B33: до 100 км | C33: 1270 | D33: 1170
B34: от 101 до 600 км | C34: 1470 | D34: 1370

Sheet Прил 1 Камчатский край
C2: Приложение 1
A5: Дополнительные тарифные планы на предоставление местного и внутризонового телефонных соединений абоненту (пользователю) сети фиксированной телефонной связи для передачи голосовой информации, факсимильных сообщений и данных, предоставляемых МРФ "Дальний Восток" ПАО «Ростелеком» на территории Камчатского края
A6: №№ пунктов | B6: Виды услуг | C6: Для абонентов - граждан, использующих услуги телефонной связи для личных, семейных, домашних нужд и других, не связанных с осуществлением предпринимательской деятельности
C7: Тарифы, установленные МРФ "Дальний Восток", в руб. с НДС
C8: ГТС | D8: СТС
A9: 1 | B9: 2 | C9: 3 | D9: 4
A10: 1. | B10: Предоставление местного и внутризонового телефонных соединений абоненту (пользователю) сети фиксированной телефонной связи для передачи голосовой информации, факсимильных сообщений и данных автоматическим способом:
A11: 1.1. | B11: с использованием абонентской системы оплаты местных телефонных соединений за неограниченный объем местных телефонных соединений и за базовый объем внутризоновых телефонных соединений в размере 30 минут
B12: с абонентского номера индивидуального пользования по тарифным зонам на расстоянии:
B13: до 100 км | C13: 345 | D13: 320
B14: от 101 до 600 км | C14: 380 | D14: 365
B15: свыше 601 км | C15: 430 | D15: 420
A16: 1.2. | B16: с использованием абонентской системы оплаты местных телефонных соединений за неограниченный объем местных телефонных соединений и за базовый объем внутризоновых телефонных соединений в размере 60 минут
A17: 1.2.1. | B17: с абонентского номера индивидуального пользования по тарифным зонам на расстоянии:
B18: до 100 км | C18: 390 | D18: 375
B19: от 101 до 600 км | C19: 480 | D19: 485
B20: свыше 601 км | C20: 575 | D20: 585
A21: 1.3. | B21: сверх базового объема внутризоновых телефонных соединений за минуту внутризонового телефонного соединения
A22: 1.3.1. | B22: Период 1: с 08.00ч до 24.00ч
B23: по тарифным зонам на расстоянии:
B24: до 100 км | C24: 2.73 | D24: 2.73
B25: от 101 до 600 км | C25: 4.68 | D25: 4.68
B26: свыше 601 км | C26: 6.31 | D26: 6.31
A27: 1.3.2. | B27: Период 2: с 00.00ч до 08.00ч
B28: по тарифным зонам на расстоянии:
B29: до 100 км | C29: 2.73 | D29: 2.73
B30: от 101 до 600 км | C30: 4.68 | D30: 4.68
B31: свыше 601 км | C31: 6.31 | D31: 6.31
A32: 1.4. | B32: с использованием абонентской системы оплаты местных и внутризоновых телефонных соединений за неограниченный объем местных и внутризоновых телефонных соединений: | C32: 1985,00 ГТС/ 1935,00 СТС
A33: 1.4.1. | B33: с абонентского номера индивидуального пользования по тарифным зонам на расстоянии:
B34: независимо от тарифной зоны | C34: 2015 | D34: 1980
B35: до 100 км | C35: 1215 | D35: 1180
B36: от 101 до 600 км | C36: 1415 | D36: 1380
B37: свыше 601 км | C37: 1515 | D37: 1480

Sheet Прил 1 Республика Саха
C2: Приложение 1
A5: Дополнительные тарифные планы на предоставление местного и внутризонового телефонных соединений абоненту (пользователю) сети фиксированной телефонной связи для передачи голосовой информации, факсимильных сообщений и данных, предоставляемых МРФ "Дальний Восток" ПАО «Ростелеком» на территории Республика Саха (Якутия)
A6: №№ пунктов | B6: Виды услуг | C6: Для абонентов - граждан, использующих услуги телефонной связи для личных, семейных, домашних нужд и других, не связанных с осуществлением предпринимательской деятельности
C7: Тарифы, установленные МРФ "Дальний Восток", в руб. с НДС
C8: ГТС и СТС
A9: 1 | B9: 2 | C9: 3
A10: 1. | B10: Предоставление местного и внутризонового телефонных соединений абоненту (пользователю) сети фиксированной телефонной связи для передачи голосовой информации, факсимильных сообщений и данных автоматическим способом:
A11: 1.1. | B11: с использованием абонентской системы оплаты местных телефонных соединений за неограниченный объем местных телефонных соединений и за базовый объем внутризоновых телефонных соединений в размере 30 минут
B12: с абонентского номера индивидуального пользования по тарифным зонам на расстоянии:
B13: до 100 км | C13: 470
B14: от 101 до 600 км | C14: 500
B15: от 601 км до 1200 км | C15: 545
B16: от 1201 км до 3000 км | C16: 570
A17: 1.2. | B17: с использованием абонентской системы оплаты местных телефонных соединений за неограниченный объем местных телефонных соединений и за базовый объем внутризоновых телефонных соединений в размере 60 минут
B18: с абонентского номера индивидуального пользования по тарифным зонам на расстоянии:
B19: до 100 км | C19: 555
B20: от 101 до 600 км | C20: 610
B21: от 601 км до 1200 км | C21: 695
B22: от 1201 км до 3000 км | C22: 740
A23: 1.3. | B23: с использованием абонентской системы оплаты местных телефонных соединений за неограниченный объем местных телефонных соединений и за базовый объем внутризоновых телефонных соединений в размере 120 минут
B24: с абонентского номера индивидуального пользования по тарифным зонам на расстоянии:
B25: до 100 км | C25: 705
B26: от 101 до 600 км | C26: 815
B27: от 601 км до 1200 км | C27: 965
B28: от 1201 км до 3000 км | C28: 1050
A29: 1.4. | B29: сверх базового объема внутризоновых телефонных соединений за минуту внутризонового телефонного соединения
B30: с абонентского номера индивидуального пользования по тарифным зонам на расстоянии:
B31: до 100 км | C31: 4.1
B32: от 101 до 600 км | C32: 5.48
B33: от 601 км до 1200 км | C33: 7.37
B34: от 1201 км до 3000 км | C34: 8.43
